BEGIN:VCALENDAR
PRODID:-//hacksw/handcal//NONSGML v1.0//EN
VERSION:2.0
METHOD:PUBLISH
BEGIN:VEVENT
DTSTART:20140917T123000Z
DTEND:20140917T140000Z
LOCATION:Gleneagles Country Club
UID:1049720140917T123000ZTrust Ownership of an Operating Business-Tax/Non-Tax Considerations
DTSTAMP:20260423T182611Z
DESCRIPTION:\nBREAKFAST MEETING\n \nWEDNESDAY, SEPTEMBER 17, 2014\n \n(Breakfast served 7:30-8:00 a.m., Program 8:00-9:00)\n \nNOTE:  MEETING LOCATION\n \nGLENEAGLES COUNTRY CLUB (5401 West Park Blvd., Plano)\n \nRESERVATION DEADLINE:  WEDNESDAY, SEPTEMBER 10\n \n(PAYMENT MUST BE IN COUNCIL’S OFFICE BY WEDNESDAY, SEPTEMBER 10)\n \nStructuring and Administering Trusts to Own Interests in Closely-Held Entities\n \nBEN CARTER\n \nClosely-held businesses have long been the signature element of the American economy. Nothing is more classically American than developing an idea and then monetizing it into a successful business enterprise.  From an estate planning perspective, closely-held businesses raise numerous unique issues and opportunities, particularly when the estate plan incorporates trusts.  Individuals routinely utilize trusts, motivated by tax and non-tax reasons, to achieve their estate planning goals and objectives.  The most successful estate planning for business owners weaves the estate planning structures into the overall business plan without any significant disruption of the operation of the business itself.  With that goal in mind, the presentation will focus on various issues that practitioners should consider when structuring and administering trusts to own business interests.    Benjamin G. Carter is an attorney with 15 years of experience in estate, wealth transfer and business succession planning. Mr. Carter is the Wealth Strategist and Senior Vice-President for the Private Wealth Advisors group at Texas Capital Bank.  Mr. Carter has lectured to various organizations across the country on estate and business planning topics and has testified before the Department of Treasury on proposed treasury regulations.  Before joining Texas Capital Bank in January 2014, Mr. Carter practiced law with an exclusive focus on estate and business planning for high net worth families and business owners.  Mr. Carter is a fellow of the American College of Trust and Estate Counsel and is board certified in estate planning and probate law by the Texas Board of Legal Specialization.   He presently serves as vice-chair of the Estate and Gift Taxes Committee for the American Bar Association’s Section of Taxation.  Mr. Carter received his B.A. in Political Science from Emory University in Atlanta, Georgia and his J.D. from Washington University in St. Louis, Missouri.\n \nContinuing education credits are pending for this program.\n \nMembership dues do not include meals.  Credit Cards are not accepted. Please complete this form, enclose a check (payable to Estate Planning Council of North Texas) and mail to:  Estate Planning Council of North Texas, P. O. Box 38553, Dallas, TX  75238-8553.  THERE WLL BE 5 MEALS AVAILABLE FOR WALK-INS ON DAY OF MEETING (FIRST COME, FIRST SERVE). ALL OTHER WALK-INS WILL BE “PROGRAM ONLY”.  Members who have already paid in advance for all meetings for the year MUST register (you can send an e-mail to northtexasepc@yahoo.com) so we will have a count for the number of meals to prepare and number of outlines to print.\n \nMember: $25 (includes meal); Guest: $30 (includes meal); Program Only (no meal): $15\n \nName: ________________________________________\n \n ____$25  ___$30 ____$15\n \nE-Mail: ______________________________________\n \nPhone Number: _________________________________\n \n \n \nName: ________________________________________\n \n____$25   ___$30  ____$15\n \nE-Mail: ______________________________________\n \nPhone Number: _________________________________\n \n \n \nName: ________________________________________\n \n____$25  ___$30  ____$15\n \nE-Mail: ______________________________________\n \nPhone Number: _________________________________\n \n \n \nNOTE:  WALK-IN PRICES ON DATE OF MEETING:  Member: $30 (includes meal); Guest: $35 (includes meal); Program Only (no meal): $20\n \n \n \nSPONSOR:  We would like to thank the following Sponsor for their support:  The Catholic Foundation\n \nWould your organization like to sponsor a meeting:  Sponsor for Meeting ($500 for 1 meeting):  Sponsorship for a meeting includes organization name on meeting notices, easel signage (sponsors provide signage) at the meeting, promotional brochures at meeting, a very brief (one minute) introduction to their organization at the beginning of the meeting and one complimentary breakfast at the meeting.  NOTE:  Each meeting can have more than one sponsor (conflicts will be eliminated by Council).\n
SUMMARY:Trust Ownership of an Operating Business-Tax/Non-Tax Considerations - Estate Planning Council of North Texas 
PRIORITY:3
BEGIN:VALARM
TRIGGER:PT18H
ACTION:DISPLAY
DESCRIPTION:Reminder
END:VALARM
END:VEVENT
END:VCALENDAR