BEGIN:VCALENDAR
PRODID:-//hacksw/handcal//NONSGML v1.0//EN
VERSION:2.0
METHOD:PUBLISH
BEGIN:VEVENT
DTSTART:20151216T133000Z
DTEND:20151216T150000Z
LOCATION:Gleneagles Country Club
UID:1178320151216T133000ZPairing Estate Planning with Insurance Policies
DTSTAMP:20260423T182913Z
DESCRIPTION:\nBREAKFAST MEETING\n \nWEDNESDAY, DECEMBER 16, 2015\n \n(Breakfast served 7:30-8:00 a.m., Program 8:00-9:00)\n \nNOTE:  MEETING LOCATION\n \nGLENEAGLES COUNTRY CLUB (5401 West Park Blvd., Plano)\n \nRESERVATION DEADLINE:  WEDNESDAY, DECEMBER 9\n \n(PAYMENT MUST BE IN COUNCIL’S OFFICE BY WEDNESDAY, DECEMBER 9)\n \n \n \nPAIRING PLANNING WITH POLICIES: SORTING THROUGH THE AVAILABLE LIFE INSURANCE OPTIONS TO FIND THE ONE BEST SUITED TO THE PROPOSED PLAN\n \nKRISTIN BULAT\n \nSponsored by Lee Financial Corporation\n \nWhile no estate plan is one size fits all, there are commonalities between clients that lead us to suggest one strategy over another.  And just as we pick the plan that works best with the client’s circumstances, there are life insurance policies that are better suited to a plan than others.  This presentation will sort through the wide spectrum of life insurance options to help identify the one that’s the best fit for the proposed planning technique. Kristin Bulat is a Tax Attorney with a J.D. and an L.LM. in Taxation.  Kristin is currently Senior Vice President of Strategic Resources for NFP and PartnersFinancial.  Kristin also heads up the Advanced Sales Department.  Prior to joining NFP, Kristin worked as Associate Counsel for John Hancock Life Insurance Company where she developed a reputation as an industry leader in her field.  She began her career as a tax and estate planning attorney in Boston, Massachusetts.  Throughout her career, Kristin has been responsible for implementing complicated tax plans for individuals while guiding business development.  Kristin is a sought-after speaker within her industry and travels regularly in that capacity.  Kristin is a member of the PartnersFinancial Board and serves on the Women’s Development and Legislative Committees for AALU.\n \n \n \nContinuing education credits are pending for this program.\n \n \n \nMembership dues do not include meals.  Credit Cards are not accepted. Please complete this form, enclose a check (payable to Estate Planning Council of North Texas) and mail to:  Estate Planning Council of North Texas, P. O. Box 38553, Dallas, TX  75238-8553.  THERE WLL BE 5 MEALS AVAILABLE FOR WALK-INS ON DAY OF MEETING (FIRST COME, FIRST SERVE). ALL OTHER WALK-INS WILL BE “PROGRAM ONLY”.  Members who have already paid in advance for all meetings for the year MUST register (you can send an e-mail to northtexasepc@yahoo.com) so we will have a count for the number of meals to prepare and number of outlines to print.\n \n \n \nMember: $25 (includes meal); Guest: $30 (includes meal); Program Only (no meal): $15\n \nName: ________________________________________ \n \n____$25   ___$30 ____$15\n \nE-Mail: ______________________________________\n \nPhone Number: _________________________________\n \n \n \nName: ________________________________________\n \n____$25   __$30  ____$15\n \nE-Mail: ______________________________________\n \nPhone Number: _________________________________\n \n \n \nNOTE:  WALK-IN PRICES ON DATE OF MEETING:  Member: $30 (includes meal); Guest: $35 (includes meal); Program Only (no meal): $20\n \n \n \nWe would like to thank the following Sponsors for their support for 2015-2016: Leu & Peirce, Lee Financial Corporation, North Dallas Bank & Trust, Pepkin & Associates, The Catholic Foundation and Texas Financial Partners (HealyPartners).\n \n \n \nWould your organization like to sponsor a meeting:  Sponsor for Meeting ($500 for 1 meeting):  Sponsorship for a meeting includes organization name on meeting notices, easel signage (sponsors provide signage) at the meeting, promotional brochures at meeting, a very brief (one minute) introduction to their organization at the beginning of the meeting and one complimentary breakfast at the meeting.  NOTE:  Each meeting can have more than one sponsor (conflicts will be eliminated by Council).\n \n \n
SUMMARY:Pairing Estate Planning with Insurance Policies - Estate Planning Council of North Texas 
PRIORITY:3
BEGIN:VALARM
TRIGGER:PT18H
ACTION:DISPLAY
DESCRIPTION:Reminder
END:VALARM
END:VEVENT
END:VCALENDAR