BEGIN:VCALENDAR
PRODID:-//hacksw/handcal//NONSGML v1.0//EN
VERSION:2.0
METHOD:PUBLISH
BEGIN:VEVENT
DTSTART:20160120T133000Z
DTEND:20160120T150000Z
LOCATION:Gleneagles Country Club
UID:1178420160120T133000ZEstate Planning & Marriage Equality for LGBT Texans
DTSTAMP:20260423T181008Z
DESCRIPTION:\nBREAKFAST MEETING\n \nWEDNESDAY, JANUARY 20, 2016\n \n(Breakfast served 7:30-8:00 a.m., Program 8:00-9:00)\n \nNOTE:  MEETING LOCATION\n \nGLENEAGLES COUNTRY CLUB (5401 West Park Blvd., Plano)\n \nRESERVATION DEADLINE:  WEDNESDAY, JANUARY 13\n \n(PAYMENT MUST BE IN COUNCIL’S OFFICE BY WEDNESDAY, JANUARY 13)\n \n \n \nEstate Planning & Marriage Equality for LGBT Texans\n \nLORIE BURCH\n \nSponsored by Pepkin & Associates\n \nFor practitioners and advisors who represent lesbian, gay, bisexual, and transgendered clients, this presentation will address the latest tips, tools, and updates on new and quickly evolving LGBT legal issues since the marriage equality decision in June 2015. Topics include the decision’s impact on retroactivity, common law marriage, community property, divorce, adoptions, estate planning, and probate. The presentation will help those with LGBT clients understand the unique planning and challenges when it comes to legal planning for LGBT Texans. Lorie Burch: In 1998, Lorie moved to Washington, D.C. for law school and then worked for various non-profits and eventually the Securities & Exchange Commission. Lorie returned home in the fall of 2004 and is now a confirmed Texan!. Lorie currently serves as the Chair of the Sponsorship Committee on the Black Tie Dinner Board, the largest fund raising dinner for the LGBT community in the nation. Lorie served as the 2013-2014 National President for the Board of Directors of the American Business Women’s Association. From 2011-2013, she also served on the ABWA National Board. Lorie was honored by the Dallas Business Journal as a 2013 Women in Business. She was recognized as one of the 2010 Top Ten Business Women for the American Business Women’s Association. Also for 2010, Lorie was selected as Woman of the Year for the Outlook Positive Express Network for ABWA. Lorie is a solo practitioner who primarily focuses on helping families, single parents, and everyone in between with creating wills, trusts, powers of attorney, and living wills.\n \n \n \nContinuing education credits are pending for this program.\n \n \n \nMembership dues do not include meals.  Credit Cards are not accepted. Please complete this form, enclose a check (payable to Estate Planning Council of North Texas) and mail to:  Estate Planning Council of North Texas, P. O. Box 38553, Dallas, TX  75238-8553.  THERE WLL BE 5 MEALS AVAILABLE FOR WALK-INS ON DAY OF MEETING (FIRST COME, FIRST SERVE). ALL OTHER WALK-INS WILL BE “PROGRAM ONLY”.  Members who have already paid in advance for all meetings for the year MUST register (you can send an e-mail to northtexasepc@yahoo.com) so we will have a count for the number of meals to prepare and number of outlines to print.\n \n \n \nMember: $25 (includes meal); Guest: $30 (includes meal); Program Only (no meal): $15\n \n \n \nName: ________________________________________    \n \n____$25   ___$30 ____$15\n \nE-Mail: ______________________________________\n \nPhone Number: _________________________________\n \n \n \nName: ________________________________________\n \n ____$25 ___$30  ____$15\n \nE-Mail: ______________________________________\n \nPhone Number: _________________________________\n \n \n \nNOTE:  WALK-IN PRICES ON DATE OF MEETING:  Member: $30 (includes meal); Guest: $35 (includes meal); Program Only (no meal): $20\n \n \n \nWe would like to thank the following Sponsors for their support for 2015-2016: Leu & Peirce, Lee Financial Corporation, North Dallas Bank & Trust, Pepkin & Associates, The Catholic Foundation and Texas Financial Partners (HealyPartners).\n \n \n \nWould your organization like to sponsor a meeting:  Sponsor for Meeting ($500 for 1 meeting):  Sponsorship for a meeting includes organization name on meeting notices, easel signage (sponsors provide signage) at the meeting, promotional brochures at meeting, a very brief (one minute) introduction to their organization at the beginning of the meeting and one complimentary breakfast at the meeting.  NOTE:  Each meeting can have more than one sponsor (conflicts will be eliminated by Council).\n \n \n
SUMMARY:Estate Planning & Marriage Equality for LGBT Texans - Estate Planning Council of North Texas 
PRIORITY:3
BEGIN:VALARM
TRIGGER:PT18H
ACTION:DISPLAY
DESCRIPTION:Reminder
END:VALARM
END:VEVENT
END:VCALENDAR