BEGIN:VCALENDAR
PRODID:-//hacksw/handcal//NONSGML v1.0//EN
VERSION:2.0
METHOD:PUBLISH
BEGIN:VEVENT
DTSTART:20170118T133000Z
DTEND:20170118T150000Z
LOCATION:Gleneagles Country Club
UID:1321120170118T133000ZCommunity/Separate Property Issues
DTSTAMP:20260423T182913Z
DESCRIPTION:\nBREAKFAST MEETING\n \nWEDNESDAY, JANUARY 18, 2017\n \n(Breakfast served 7:30-8:00 a.m., Program 8:00-9:00)\n \nNOTE:  MEETING LOCATION\n \nGLENEAGLES COUNTRY CLUB (5401 West Park Blvd., Plano)\n \nRESERVATION DEADLINE:  WEDNESDAY, JANUARY 11, 5:00 p.m.\n \n(PAYMENT MUST BE IN COUNCIL’S OFFICE BY WEDNESDAY, JANUARY 11)\n \n \n \n \n \nCHARACTERIZATION OF SEPARATE AND COMMUNITY PROPERTY \n \nAND PRE-MARITAL AND POST-MARITAL AGREEMENTS\nJEFF DOMEN\n \nSponsored by FMV Opinions\n \n \n \nThe attendee will learn the basics and some nuances to consider regarding property that can be divisible during a divorce.  There will be an examination of community property, separate property and property with a mix of community and separate property. The presentation will cover 20 rules every practitioner should know about marital property in Texas and suggestions on writing effective pre and post marital agreements. JEFF DOMEN is a partner with Goranson Bain, PLLC.  He received a Bachelor of Arts degree from Baylor University and JD from Baylor University School of Law.  He is board certified in Family Law. He has been recognized in Best Lawyers of America and Texas Super Lawyers for several years. He is a frequent lecturer for various associations.\n \n \n \nContinuing education credits are pending for this program.\n \nMembership dues do not include meals.  Credit Cards are now accepted online at the website (scroll to bottom of page)\n \nTo mail a check, please complete this form, enclose a check (payable to Estate Planning Council of North Texas) and mail to:  Estate Planning Council of North Texas, P. O. Box 38553, Dallas, TX  75238-8553.  THERE WLL BE 5 MEALS AVAILABLE FOR WALK-INS ON DAY OF MEETING (FIRST COME, FIRST SERVE). ALL OTHER WALK-INS WILL BE “PROGRAM ONLY”.  Members who have already paid in advance for all meetings for the year MUST REGISTER ON THE WEBSITE (scroll to bottom of page)  so we will have a count for the number of meals to prepare.\n \n \n \nMember: $25 (includes meal); Guest: $30 (includes meal); Program Only (no meal): $15\n \n \n \nName: ________________________________________\n \n ____$25   ___$30 ____$15\n \nE-Mail: ______________________________________\n \nPhone Number: _________________________________\n \n \n \nName: ________________________________________\n \n____$25  ___$30  ____$15\n \nE-Mail: ______________________________________\n \nPhone Number: _________________________________\n \n \n \nNOTE:  WALK-IN PRICES ON DATE OF MEETING:  Member: $30 (includes meal); Guest: $35 (includes meal); Program Only (no meal): $20\n \n \n \nWe would like to thank the following Sponsors for their support for 2016-2017: Communities Foundation of Texas, FMV Opinions, Leu & Peirce, Lee Financial Corporation, North Dallas Bank & Trust, Pepkin & Associates, PlainsCapital Bank, Texas Bank & Trust and The Catholic Foundation. \n \nO REGISTER ONLINE WITH A CREDIT CARD:\n \nCLICK ”REGISTER NOW”  \n \nComplete the contact information\n Payment Method: click “Credit Card or PayPal” REMEMBER TO FINALIZE PAYMENT THRU PAYPAL – YOU MUST COMPLETE THE STEPS BELOW FOR PAYMENT Click “Pay Now” “Pay with Debit or Credit Card” “PayPal Guest Checkout”  “Pay Now” PLEASE NOTE:  YOU WILL RECEIVE A RECEIPT IMMEDIATELY FOLLOWING THE TRANSACTION
SUMMARY:Community/Separate Property Issues - Estate Planning Council of North Texas 
PRIORITY:3
BEGIN:VALARM
TRIGGER:PT18H
ACTION:DISPLAY
DESCRIPTION:Reminder
END:VALARM
END:VEVENT
END:VCALENDAR