BEGIN:VCALENDAR
PRODID:-//hacksw/handcal//NONSGML v1.0//EN
VERSION:2.0
METHOD:PUBLISH
BEGIN:VEVENT
DTSTART:20170419T123000Z
DTEND:20170419T140000Z
LOCATION:Gleneagles Country Club
UID:1321420170419T123000ZTransfer on Death Deeds
DTSTAMP:20260423T182806Z
DESCRIPTION:\nBREAKFAST MEETING\n \nWEDNESDAY, APRIL 19, 2017\n \n(Breakfast served 7:30-8:00 a.m., Program 8:00-9:00)\n \nNOTE:  MEETING LOCATION\n \nGLENEAGLES COUNTRY CLUB (5401 West Park Blvd., Plano)\n \nRESERVATION DEADLINE:  WEDNESDAY, APRIL 12, 5:00 p.m.\n \n(PAYMENT MUST BE IN COUNCIL’S OFFICE BY WEDNESDAY, APRIL 12)\n \n \n \nTRANSFER ON DEATH DEEDS\n \nELLEN BENNETT\n \nSponsored by Texas Bank & Trust\n \n \n \nThis presentation will cover transfer on death deeds, from practical use to essential elements. It will also cover possible traps for claimants, including valid revocation by the transferor. Practical tips for dealing with issues with creditors and joint owners will be presented. Ellen, a shareholder with Burdette & Rice, PLLC, focuses her practice on disputes in trial and appellate courts concerning estates, trusts, and guardianships. She also advises estate administrators, executors, trustees, and guardians in uncontested administrations. Ellen works closely with her clients to reach effective resolutions to important issues.\n \n \n \nContinuing education credits are pending for this program.\n \n \n \nMembership dues do not include meals.  Credit Cards are now accepted online at the website. Scroll down to the bottom  of the page to register.\n \nTo mail a check, please complete this form, enclose a check (payable to Estate Planning Council of North Texas) and mail to:  Estate Planning Council of North Texas, P. O. Box 38553, Dallas, TX  75238-8553.  THERE WLL BE 5 MEALS AVAILABLE FOR WALK-INS ON DAY OF MEETING (FIRST COME, FIRST SERVE). ALL OTHER WALK-INS WILL BE “PROGRAM ONLY”.  Members who have already paid in advance for all meetings for the year MUST REGISTER ON THE WEBSITE (www.epcnt.org)  so we will have a count for the number of meals to prepare.\n \n \n \nMember: $25 (includes meal); Guest: $30 (includes meal); Program Only (no meal): $15\n \n \n \nName: ________________________________________ \n \n____$25  ___$30 ____$15\n \nE-Mail: ______________________________________\n \nPhone Number: _________________________________\n \n \n \nName: ________________________________________ \n \n____$25 ___$30  ____$15\n \nE-Mail: ______________________________________\n \nPhone Number: _________________________________\n \n \n \nNOTE:  WALK-IN PRICES ON DATE OF MEETING:  Member: $30 (includes meal); Guest: $35 (includes meal); Program Only (no meal): $20\n \n \n \nWe would like to thank the following Sponsors for their support for 2016-2017: Communities Foundation of Texas, Stout Risius Ross Inc., Leu & Peirce, Lee Financial Corporation, North Dallas Bank & Trust, Pepkin & Associates, PlainsCapital Bank, Texas Bank & Trust and The Catholic Foundation. \n
SUMMARY:Transfer on Death Deeds - Estate Planning Council of North Texas 
PRIORITY:3
BEGIN:VALARM
TRIGGER:PT18H
ACTION:DISPLAY
DESCRIPTION:Reminder
END:VALARM
END:VEVENT
END:VCALENDAR