BEGIN:VCALENDAR
PRODID:-//hacksw/handcal//NONSGML v1.0//EN
VERSION:2.0
METHOD:PUBLISH
BEGIN:VEVENT
DTSTART:20170517T123000Z
DTEND:20170517T140000Z
LOCATION:Gleneagles Country Club
UID:1321520170517T123000ZEstate Planning and Administration for Digital Assets/Guns
DTSTAMP:20260423T182846Z
DESCRIPTION:\nREGISTRATION IS CLOSED.  WALK-INS ARE WELCOME BUT WILL NOT BE GUARANTEED A MEAL.\n \n \n \nBREAKFAST MEETING\n \nWEDNESDAY, MAY 17, 2017\n \n(Breakfast served 7:30-8:00 a.m., Program 8:00-9:00)\n \nNOTE:  MEETING LOCATION\n \nGLENEAGLES COUNTRY CLUB (5401 West Park Blvd., Plano)\n \nRESERVATION DEADLINE:  WEDNESDAY, MAY 10, 5:00 p.m.\n \n(PAYMENT MUST BE IN COUNCIL’S OFFICE BY WEDNESDAY, MAY 10)\n \n \n \n \n \nESTATE PLANNING & ADMINISTRATION\n \nFOR DIGITAL ASSETS AND GUNS\n \nGERRY BEYER\n \nSponsored by Communities Foundation of Texas and PlainsCapital Bank\n \n \n \nThis program will cover two types of assets that require special planning.  First, this presentation will focus on the developing area of "digital assets," electronic records ranging from e-mail accounts to banking, investment, and shopping accounts, domain names, social networking sites, and online games.  Prof. Beyer will offer guidance on the utility of comprehensive planning for digital assets and will discuss issues that affect this set of assets, offer estate planning options, analyze existing laws, and explore current and future trends in this area.  Second, this program will examine the special steps that you should take if a client’s estate contains firearms, both traditional weapons as well as weapons governed by the National Firearms Act of 1934. Gerry W. Beyer joined the faculty of the Texas Tech University School of Law in June 2005 as the first holder of the Governor Preston E. Smith Regents Professorship.   Previously, Prof. Beyer taught as a professor or visiting professor at several other law schools including Boston College, Boston University, The Ohio State University, Southern Methodist University, the University of New Mexico, Santa Clara University, St. Mary’s University, and La Trobe University (Australia).  He is the recipient of dozens of outstanding and distinguished faculty awards. He is a highly sought after lecturer and presents dozens of continuing legal education presentations each year for many state and local bar associations, universities, and civic groups.  Prof. Beyer is the editor of the most popular estate planning blawg in the nation which for the past six years was named to the ABA Journal's Blawg 100 and was awarded ABA Blawg 100 Hall of Fame status in December 2015.  He has authored and co-authored numerous books and articles focusing on various aspects of estate planning, including a two volume treatise on Texas wills law, an estate planning casebook, and the Wills, Trusts, and Estates volume of the Examples & Explanations series.  He has three times won awards from the American Bar Association’s Probate & Property magazine for his writing and is one of the most often downloaded law authors on the Social Science Research Network. \n \n \n \nContinuing education credits are pending for this program.\n \n \n \nMembership dues do not include meals.  Credit Cards are now accepted - SCROLL TO BOTTOM OF PAGE TO REGISTER.\n \nTo mail a check, please complete this form, enclose a check (payable to Estate Planning Council of North Texas) and mail to:  Estate Planning Council of North Texas, P. O. Box 38553, Dallas, TX  75238-8553.  THERE WLL BE 5 MEALS AVAILABLE FOR WALK-INS ON DAY OF MEETING (FIRST COME, FIRST SERVE). ALL OTHER WALK-INS WILL BE “PROGRAM ONLY”.  Members who have already paid in advance for all meetings for the year MUST REGISTER ON THE WEBSITE   so we will have a count for the number of meals to prepare.\n \n \n \nMember: $25 (includes meal); Guest: $30 (includes meal); Program Only (no meal): $15\n \n \n \nName: ________________________________________\n \n ____$25  ___$30 ____$15\n \nE-Mail: ______________________________________\n \nPhone Number: _________________________________\n \n \n \nName: ________________________________________\n \n ____$25 ___$30  ____$15\n \nE-Mail: ______________________________________\n \nPhone Number: _________________________________\n \n \n \nNOTE:  WALK-IN PRICES ON DATE OF MEETING:  Member: $30 (includes meal); Guest: $35 (includes meal); Program Only (no meal): $20\n \n \n \nWe would like to thank the following Sponsors for their support for 2016-2017: Communities Foundation of Texas, Stout Risius Ross Inc., Leu & Peirce, Lee Financial Corporation, North Dallas Bank & Trust, Pepkin & Associates, PlainsCapital Bank, Texas Bank & Trust and The Catholic Foundation. \n \n \n \n \n \nCLICK ”REGISTER NOW”  \n \nComplete the contact information\n Payment Method: click “Credit Card or PayPal” REMEMBER TO FINALIZE PAYMENT THRU PAYPAL – YOU MUST COMPLETE THE STEPS BELOW FOR PAYMENT Click “Pay Now” “Pay with Debit or Credit Card” “PayPal Guest Checkout”  “Pay Now” PLEASE NOTE:  YOU WILL RECEIVE A RECEIPT IMMEDIATELY FOLLOWING THE TRANSACTION - PLEASE PRINT FOR YOUR RECORDS
SUMMARY:Estate Planning and Administration for Digital Assets/Guns - Estate Planning Council of North Texas 
PRIORITY:3
BEGIN:VALARM
TRIGGER:PT18H
ACTION:DISPLAY
DESCRIPTION:Reminder
END:VALARM
END:VEVENT
END:VCALENDAR