BEGIN:VCALENDAR
PRODID:-//hacksw/handcal//NONSGML v1.0//EN
VERSION:2.0
METHOD:PUBLISH
BEGIN:VEVENT
DTSTART:20170920T123000Z
DTEND:20170920T140000Z
LOCATION:Gleneagles Country Club
UID:1468420170920T123000ZTrust Decanting
DTSTAMP:20260423T181645Z
DESCRIPTION:\nREGISTRATION FOR THIS MEETING IS CLOSED.  WALK-INS ARE WELCOME BUT WILL NOT BE GUARANTEED A MEAL\n \n \n \nBREAKFAST MEETING\n \nWEDNESDAY, SEPTEMBER 20, 2017\n \n(Breakfast served 7:30-8:00 a.m., Program 8:00-9:00)\n \nNOTE:  MEETING LOCATION\n \nGLENEAGLES COUNTRY CLUB (5401 West Park Blvd., Plano)\n \nRESERVATION DEADLINE:  WEDNESDAY, SEPTEMBER 13, 5:00 p.m.\n \n(PAYMENT MUST BE IN COUNCIL’S OFFICE BY WEDNESDAY, SEPTEMBER 13)\n \n \n \n“Irrevocable or Not? Modifications to Trusts”\n \nERIC REIS\n \nSponsored by Leu & Peirce\n \n \n \nSupposedly irrevocable trusts must sometimes be modified or even terminated due to changed or unanticipated circumstances. While the terms of an irrevocable trust may seem to limit the options of the trustee, statutory and common law allow the terms of expressly irrevocable trusts to be amended under many circumstances. Similarly, merger of an old trust with a new trust having more favorable terms may effectively result in the modification of the old trust. These laws and strategies provide much more flexibility in the administration of an irrevocable trust than one might otherwise assume. This presentation will examine the substantive methods available to persons desiring to amend an irrevocable trust, including judicial modification, merger of trusts, the sale of trust assets to new trusts, and decanting trusts. Eric Reis, JD, is Of Counsel with Thompson & Knight LLP.  He counsels clients in estate planning, probate, charitable planned giving and tax-exempt organizations matters.  He is Board Certified in both tax Law and Estate Planning & Probate Law by the Texas Board of Legal Specialization. \n \n \n \nContinuing education credits are pending for this program.\n \n \n \nMembership dues do not include meals.  Credit Cards are now accepted online at the website, scroll down to register.\n \nTo mail a check, please complete the form below, enclose a check (payable to Estate Planning Council of North Texas) and mail to:  Estate Planning Council of North Texas, P. O. Box 38553, Dallas, TX  75238-8553.  THERE WLL BE 5 MEALS AVAILABLE FOR WALK-INS ON DAY OF MEETING (FIRST COME, FIRST SERVE). ALL OTHER WALK-INS WILL BE “PROGRAM ONLY”.  Members who have already paid in advance for all meetings for the year MUST REGISTER ON THE WEBSITE (www.epcnt.org)  so we will have a count for the number of meals to prepare.\n \n \n \nMember: $25 (includes meal); Guest: $30 (includes meal); Program Only (no meal): $15\n \n \n \nName: ________________________________________ \n \n ____$25  ___$30 ____$15\n \nE-Mail: ______________________________________\n \nPhone Number: _________________________________\n \n \n \nName: ________________________________________ \n \n  ____$25  ___$30  ____$15\n \nE-Mail: ______________________________________\n \nPhone Number: _________________________________\n \n \n \nNOTE:  WALK-IN PRICES ON DATE OF MEETING:  Member: $30 (includes meal); Guest: $35 (includes meal); Program Only (no meal): $20\n \n \n \nWe would like to thank the following Sponsors for their support for 2017-2018: Armor Wealth Management, Communities Foundation of Texas, Dallas Foundation, Leu & Peirce, Lee Financial Corporation, Lindquist Eisenberg LLP, North Dallas Bank & Trust, Pepkin & Associates, PlainsCapital Bank, Stout Risius Ross Inc., Texas Bank & Trust and The Catholic Foundation\n
SUMMARY:Trust Decanting - Estate Planning Council of North Texas 
PRIORITY:3
BEGIN:VALARM
TRIGGER:PT18H
ACTION:DISPLAY
DESCRIPTION:Reminder
END:VALARM
END:VEVENT
END:VCALENDAR