BEGIN:VCALENDAR
PRODID:-//hacksw/handcal//NONSGML v1.0//EN
VERSION:2.0
METHOD:PUBLISH
BEGIN:VEVENT
DTSTART:20171207T133000Z
DTEND:20171207T150000Z
LOCATION:Northwood Club
UID:1468720171207T133000ZEstate Planning for Special Needs Family
DTSTAMP:20260423T182806Z
DESCRIPTION:\n \n \nTHIS IS A JOINT MEETING WITH DALLAS ESTATE PLANNING COUNCIL\n \nBREAKFAST MEETING\n \nDECEMBER 7, 2017\n \n(Breakfast served 7:30-8:00 a.m., Program 8:00-9:00)\n \nNOTE:  MEETING LOCATION\n \nNORTHWOOD CLUB\n \n6524 Alpha Road, Dallas, Texas\n \n \n \nRESERVATION DEADLINE: WEDNESDAY, NOVEMBER 29 (5:00 P.M.) \n \n(PAYMENT MUST BE IN COUNCIL’S OFFICE)\n \n \n \nESTATE PLANNING FOR SPECIAL NEEDS FAMILIES: \n \nCOMPLEXITIES AND RECENT DEVELOPMENTS\n \nTRESI WEEKS\n \n \n \nThis session focuses on advanced planning for clients with children, grandchildren or siblings with disabilities. The presentation will begin with the basics of creating a life plan for the child and strategies for funding the child’s lifetime needs by maximizing public benefits and reducing taxes.  The presentation will then explore to how traditional tax planning, including Crummey withdrawal powers, disclaimers, and conduit trusts can affect the government benefits and wellbeing of the child.   Attendees will be able to identify planning opportunities for special needs family members, including special needs trusts, life insurance trusts, and retirement trusts, while avoiding potential malpractice pitfalls.  Attendees will also be able to recognize possible probate fixes when the parent dies without a special needs trust.  Lastly, attendees will understand the most recent developments in special needs planning, including ABLE accounts and military survivor benefit plans. Tresi Weeks is an attorney and founder of the Weeks Law Firm, PLLC, where she assists families with special needs planning, estate planning, guardianship and probate.  She is a frequent speaker on special needs planning.  She serves as Vice-chair of the Board of Disability Rights Texas, and serves on the board of Coventry Reserve and Association for Independent Living.  She is the past President of the Estate Planning and Probate Section of the Collin County Bar Association, and currently serves on the board of the Collin County Bar.  In addition, she serves on the board of the Estate Planning Council of North Texas and the Dallas Society of Financial Service Professionals.  She is a member of NAELA.  She received her B.A. and J.D. from Baylor University. \n \n \n \nContinuing education credits are pending for this program.\n \n \n \nMembership dues do not include meals.  Credit Cards are now accepted online at the website. - scroll down to bottom of the page.\n \nTo mail a check, please complete this form, enclose a check (payable to Estate Planning Council of North Texas) and mail to:  Estate Planning Council of North Texas, P. O. Box 38553, Dallas, TX  75238-8553.  THERE WLL BE 10 MEALS AVAILABLE FOR WALK-INS ON DAY OF MEETING (FIRST COME, FIRST SERVE). ALL OTHER WALK-INS WILL BE “PROGRAM ONLY”.  Members who have already paid in advance for all meetings for the year MUST REGISTER ON THE WEBSITE (www.epcnt.org)  so we will have a count for the number of meals to prepare.\n \nMember: $37 (includes meal); Guest: $60 (includes meal); Program Only (no meal): $25\n \n \n \nName: ________________________________________ \n \n____$37  ___$60 ____$25\n \nE-Mail: _______________________________________\n \nPhone Number: _________________________________\n \n \n \nName: ________________________________________\n \n ____$37   ___$60  ____$25\n \nE-Mail: _______________________________________\n \nPhone Number: _________________________________\n \nWe would like to thank the following Sponsors for their support for 2017-2018: Armor Wealth Management, Communities Foundation of Texas, Dallas Foundation, Leu & Peirce, Lee Financial Corporation, Lindquist Eisenberg LLP, North Dallas Bank & Trust, Pepkin & Associates, PlainsCapital Bank, Stout., Texas Bank & Trust and The Catholic Foundation\n \n \n \nTO PAY VIA CREDIT CARD - PLEASE FOLLOW INSTRUCTIONS BELOW\n \nClick on the Registration link below. Complete the contact information\n Payment Method: click “Credit Card or PayPal” REMEMBER TO FINALIZE PAYMENT THRU PAYPAL – YOU MUST COMPLETE THE STEPS BELOW FOR PAYMENT Click “Pay Now” “Pay with Debit or Credit Card” “PayPal Guest Checkout”  “Pay Now” PLEASE NOTE:  YOU WILL RECEIVE A RECEIPT IMMEDIATELY FOLLOWING THE TRANSACTION – PLEASE PRINT FOR YOUR RECORDS \n \n \nSPECIAL MEAL REQUESTS ARE NOT AVAILABLE FOR THIS MEETING\n
SUMMARY:Estate Planning for Special Needs Family - Estate Planning Council of North Texas 
PRIORITY:3
BEGIN:VALARM
TRIGGER:PT18H
ACTION:DISPLAY
DESCRIPTION:Reminder
END:VALARM
END:VEVENT
END:VCALENDAR