BEGIN:VCALENDAR
PRODID:-//hacksw/handcal//NONSGML v1.0//EN
VERSION:2.0
METHOD:PUBLISH
BEGIN:VEVENT
DTSTART:20180117T133000Z
DTEND:20180117T150000Z
LOCATION:Gleneagles Country Club
UID:1468820180117T133000ZHow to Formulate Your Vision for Your Legacy
DTSTAMP:20260423T182301Z
DESCRIPTION:\nREGISTRATION IS CLOSED - WALK-INS ARE WELCOME BUT WILL NOT BE GUARANTEED A MEAL\n \n \n \nBREAKFAST MEETING\n \nWEDNESDAY, JANUARY 17, 2018\n \n(Breakfast served 7:30-8:00 a.m., Program 8:00-9:00)\n \nNOTE:  MEETING LOCATION\n \nGLENEAGLES COUNTRY CLUB (5401 West Park Blvd., Plano)\n \nRESERVATION DEADLINE:  WEDNESDAY, JANUARY 10, 5:00 p.m.\n \n(PAYMENT MUST BE IN COUNCIL’S OFFICE BY WEDNESDAY, JANUARY 10)\n \n \n \nHOW TO FORMULATE YOUR VISION FOR YOUR LEGACY \n \nDAVE ROBERTS\n \nSponsored by Pepkin & Associates and Stout Advisory Group\n \n \n \nEvery client that has a need for estate planning is unique. Consistently and sustainably serving these clients while growing your value to them and growing your firm hinges on your ability to discover and clarify their vision of their legacy. During this fast-paced, interactive, and provocative training participants will be challenged to first formulate their vision for their legacy. Then, imagine knowing the single most important question to answer for your client (and yourself) and finally knowing how to formulate the answer. This session will begin your journey to make your imagination a reality. David A. (Dave) Roberts - has been the driving force behind the growth and transformation of hundreds of organizations both during his corporate career and since his retirement from Accenture as a partner in 2005. As Founder and CEO of MyVisionWarrior.com (http://myvisionwarrior.com/) (previously Roberts High Performance), he leads a multi-faceted consulting, and marketing company focused on business vision, growth and development. Dave's Unique Value is "connecting the dots", delivering high performance and strategic transformation to leaders and organizations across all industries of all sizes (Fortune 50, to Churches, schools, small businesses and individuals) ultimately becoming their Vision Warrior. Dave’s Unique Vision is to “Change the World One Dream at a Time” by helping aspiring leaders elicit, clarify and accelerate realization of their Dream Vision. He is the author of the 2017 Vision Challenge (http://businessgrowthnetwork.org/vc/) and (soon to be Best Seller) Vision Warrior: Survive and Thrive in the Zombie Apocalypse. Dave is co-founder and CVO (Chief Vision Officer) of the Business Growth Network ([http://businessgrowthnetwork.org](http://businessgrowthnetwork.org/)) a non-profit Network of Aspiring Leaders succeeding through Vision, Networking, Education, and Action!\n \n \n \nThere will not be any continuing education credits for this program.\n \n \n \nMembership dues do not include meals.  Credit Cards are now accepted online at the website.\n \nTo mail a check, please complete this form, enclose a check (payable to Estate Planning Council of North Texas) and mail to:  Estate Planning Council of North Texas, P. O. Box 38553, Dallas, TX  75238-8553.  THERE WLL BE 5 MEALS AVAILABLE FOR WALK-INS ON DAY OF MEETING (FIRST COME, FIRST SERVE). ALL OTHER WALK-INS WILL BE “PROGRAM ONLY”.  Members who have already paid in advance for all meetings for the year MUST REGISTER ON THE WEBSITE  so we will have a count for the number of meals to prepare.\n \n \n \nMember: $25 (includes meal); Guest: $30 (includes meal); Program Only (no meal): $15\n \n \n \nName: ________________________________________ \n \n  ____$25   ___$30 ____$15\n \nE-Mail: ______________________________________\n \nPhone Number: _________________________________\n \n \n \nName: ________________________________________ \n \n ____$25   ___$30  ____$15\n \nE-Mail: ______________________________________\n \nPhone Number: _________________________________\n \n \n \nNOTE:  WALK-IN PRICES ON DATE OF MEETING:  Member: $30 (includes meal); Guest: $35 (includes meal); Program Only (no meal): $20\n \n \n \nWe would like to thank the following Sponsors for their support for 2017-2018: Armor Wealth Management, Communities Foundation of Texas, Dallas Foundation, Leu & Peirce, Lee Financial Corporation, Lindquist Eisenberg LLP, North Dallas Bank & Trust, Pepkin & Associates, PlainsCapital Bank, Stout., Texas Bank & Trust and The Catholic Foundation\n \n \n \n \n \nCLICK ”REGISTER NOW”  \n \nComplete the contact information\n Payment Method: click “Credit Card or PayPal” REMEMBER TO FINALIZE PAYMENT THRU PAYPAL – YOU MUST COMPLETE THE STEPS BELOW FOR PAYMENT Click “Pay Now” “Pay with Debit or Credit Card” “PayPal Guest Checkout”  “Pay Now” PLEASE NOTE:  YOU WILL RECEIVE A RECEIPT IMMEDIATELY FOLLOWING THE TRANSACTION - PLEASE PRINT FOR YOUR RECORDS
SUMMARY:How to Formulate Your Vision for Your Legacy - Estate Planning Council of North Texas 
PRIORITY:3
BEGIN:VALARM
TRIGGER:PT18H
ACTION:DISPLAY
DESCRIPTION:Reminder
END:VALARM
END:VEVENT
END:VCALENDAR