BEGIN:VCALENDAR
PRODID:-//hacksw/handcal//NONSGML v1.0//EN
VERSION:2.0
METHOD:PUBLISH
BEGIN:VEVENT
DTSTART:20180321T123000Z
DTEND:20180321T140000Z
LOCATION:Gleneagles Country Club
UID:1469020180321T123000ZESOPs
DTSTAMP:20260423T181808Z
DESCRIPTION:\nREGISTRATION FOR THIS EVENT IS CLOSED. \n \nWALK-INS ARE WELCOME BUT WILL NOT BE GUARANTEED A MEAL\n \n \n \nBREAKFAST MEETING\n \nWEDNESDAY, MARCH 21, 2018\n \n(Breakfast served 7:30-8:00 a.m., Program 8:00-9:00)\n \nNOTE:  MEETING LOCATION\n \nGLENEAGLES COUNTRY CLUB (5401 West Park Blvd., Plano)\n \nRESERVATION DEADLINE:  WEDNESDAY, MARCH 14, 5:00 p.m.\n \n(PAYMENT MUST BE IN COUNCIL’S OFFICE BY WEDNESDAY, MARCH 14)\n \n \n \nUTILIZING ESOPs FOR TAX EFFICIENT LIQUIDITY\n \nMARK RUSSELL AND ED RENENGER\n \nSponsored by Armor Wealth Management\n \n \n \nThe primary goal of the presentation is to better understand, through the use of examples and case studies: (i) some of the myths associated with ESOPs; (i) the benefits and pitfalls of utilizing an ESOP for tax efficient liquidity for business owners, for corporate finance and transition planning for the business and as a tool for attracting and retaining employees; (iii) some estate planning considerations; and (iv) what type of situations are best suited for an ESOP. Mark Russell and Ed Renenger specialize in helping companies navigate the complexities of ESOPs.  Mark, as a Senior Managing Director of Griffin Financial Group, helps companies determine the feasibility of an ESOP and whether an ESOP is the appropriate vehicle for the relevant stakeholders to accomplish their goals.  In situations where the ESOP is not the right fit, Mark assists owners in determining what alternative structure is more appropriate for their situation.  Ed, as a lawyer shareholder in Stevens & Lee, advises business owners on how to sell their companies to its employees through an ESOP and also provides legal advice on other ESOP-related transactions.  Ed also advises ESOP trustees on their fiduciary obligations in ESOP transactions and when unique situations arise in already established ESOPs. \n \n \n \nContinuing education credits pending for this program. \n \n \n \nMembership dues do not include meals.  Credit Cards are now accepted online. To mail a check, please complete this form, enclose a check (payable to Estate Planning Council of North Texas) and mail to:  Estate Planning Council of North Texas, P. O. Box 38553, Dallas, TX  75238-8553.  THERE WLL BE 5 MEALS AVAILABLE FOR WALK-INS ON DAY OF MEETING (FIRST COME, FIRST SERVE). ALL OTHER WALK-INS WILL BE “PROGRAM ONLY”.  Members who have already paid in advance for all meetings for the year MUST REGISTER ON THE WEBSITE BY THE DEADLINE so we will have a count for the number of meals to prepare.\n \n \n \nMember: $25 (includes meal); Guest: $30 (includes meal); Program Only (no meal): $15\n \n \n \nName: ________________________________________ \n \n ____$25   ___$30 ____$15\n \nE-Mail: ______________________________________\n \nPhone Number: _________________________________\n \n \n \nName: ________________________________________ \n \n ____$25    ___$30  ____$15\n \nE-Mail: ______________________________________\n \nPhone Number: _________________________________\n \n \n \nNOTE:  WALK-IN PRICES ON DATE OF MEETING:  Member: $30 (includes meal); Guest: $35 (includes meal); Program Only (no meal): $20\n \n \n \nWe would like to thank the following Sponsors for their support for 2017-2018: Armor Wealth Management, Communities Foundation of Texas, Dallas Foundation, Leu & Peirce, Lee Financial Corporation, Lindquist Eisenberg LLP, North Dallas Bank & Trust, Pepkin & Associates, PlainsCapital Bank, Stout., Texas Bank & Trust and The Catholic Foundation\n \n \n \n \n \nPLEASE READ INSTRUCTIONS BELOW TO REGISTER via CREDIT CARD:\n \nCLICK ”REGISTER NOW”  \n \nComplete the contact information\n Payment Method: click “Credit Card or PayPal” REMEMBER TO FINALIZE PAYMENT THRU PAYPAL – YOU MUST COMPLETE THE STEPS BELOW FOR PAYMENT Click “Pay Now” “Pay with Debit or Credit Card” “PayPal Guest Checkout”  “Pay Now” PLEASE NOTE:  YOU WILL RECEIVE A RECEIPT IMMEDIATELY FOLLOWING THE TRANSACTION - PLEASE PRINT FOR YOUR RECORDS
SUMMARY:ESOPs - Estate Planning Council of North Texas 
PRIORITY:3
BEGIN:VALARM
TRIGGER:PT18H
ACTION:DISPLAY
DESCRIPTION:Reminder
END:VALARM
END:VEVENT
END:VCALENDAR