BEGIN:VCALENDAR
PRODID:-//hacksw/handcal//NONSGML v1.0//EN
VERSION:2.0
METHOD:PUBLISH
BEGIN:VEVENT
DTSTART:20180919T123000Z
DTEND:20180919T140000Z
LOCATION:Gleneagles Country Club (Plano)
UID:1618720180919T123000ZMulti-Jurisdictional Estate Planning/Probate
DTSTAMP:20260423T182339Z
DESCRIPTION:\nREGISTRATION IS CLOSED FOR THIS EVENT\n \nWALK-INS ARE WELCOME BUT WILL NOT BE GUARANTEED A MEAL (SEE BELOW)\n \n \n \nBREAKFAST MEETING\n \nWEDNESDAY, SEPTEMBER 19, 2018\n \n(Breakfast served 7:30-8:00 a.m., Program 8:00-9:00)\n \nNOTE:  MEETING LOCATION\n \nGLENEAGLES COUNTRY CLUB (5401 West Park Blvd., Plano)\n \nRESERVATION DEADLINE:  WEDNESDAY, SEPTEMBER 12, 5:00 p.m.\n \n(PAYMENT MUST BE IN COUNCIL’S OFFICE BY WEDNESDAY, SEPTEMBER 12)\n \n \n \nEstate Planning and Probate across State Lines\n \nErny Simmons\n \n\n \nSponsored by Communities Foundation of Texas and Leu & Peirce\n \n \n \nThe presentation will provide some useful ideas for planning for a Texas resident owning real property, including minerals, located in Louisiana.  Also, for a Texas resident who dies without having done such planning, the presentation will discuss alternative means for correctly handling the transfer of those assets to the heirs or beneficiaries of the Texas decedent.  The speaker will address both testate and intestate matters, and will relate the Louisiana procedures to those with which we are familiar in Texas.  Louisiana terminology will be correlated to Texas terms; and both administration of an estate and the Louisiana equivalent of a probate of a will as a muniment of title will be discussed.  Finally, the presentation will touch on the ethical issues involved for a Texas estate planner working with clients owning Louisiana assets. Erny received his B.S. in Management from Tulane University and his JD from Loyola University New Orleans.  His areas of practice include estate planning, estate and trust administration, and probate law; tax compliance, including preparation of gift and estate tax returns and IRS audits of gift and estate returns; also, counseling high net-worth clients regarding business transactions, business succession planning and selected income tax planning.\n \n \n \nContinuing education credits pending for this program. \n \n \n \nMembership dues do not include meals.  Credit Cards are now accepted online at the website, [www.epcnt.org](http://www.epcnt.org/)\n \n \n \nTo mail a check, please complete this form, enclose a check (payable to Estate Planning Council of North Texas) and mail to:  Estate Planning Council of North Texas, P. O. Box 38553, Dallas, TX  75238-8553.  THERE WLL BE 5 MEALS AVAILABLE FOR WALK-INS ON DAY OF MEETING (FIRST COME, FIRST SERVE). ALL OTHER WALK-INS WILL BE “PROGRAM ONLY”.  Members who have already paid in advance for all meetings for the year MUST REGISTER ON THE WEBSITE (www.epcnt.org)  so we will have a count for the number of meals to prepare.\n \n \n \nMember: $25 (includes meal); Guest: $30 (includes meal); Program Only (no meal): $15\n \n \n \nName: ________________________________________ \n \n ____$25     ___$30 ____$15\n \nE-Mail: ______________________________________\n \nPhone Number: _________________________________\n \n \n \nName: ________________________________________\n \n ____$25    ___$30  ____$15\n \nE-Mail: ______________________________________\n \nPhone Number: _________________________________\n \n \n \nNOTE:  WALK-IN PRICES ON DATE OF MEETING:  Member: $30 (includes meal); Guest: $35 (includes meal); Program Only (no meal): $20\n \n \n \nWe would like to thank the following Sponsors for their support for 2018-2019: Bank of Texas, Communities Foundation of Texas, Dallas Foundation, Leu & Peirce, Lee Financial Corporation, Lindquist Eisenberg LLP, North Dallas Bank & Trust, Pepkin & Associates, PlainsCapital Bank, Ryan Maynard – Merrill Lynch, Texas Bank & Trust and The Catholic Foundation\n \n \n \n \n \nTO PAY VIA CREDIT CARD:  follow these instructions:\n \nScroll down to “Register Now”\n \nCLICK on “REGISTER NOW” \n \nComplete the contact information\n Payment Method: click “Credit Card or PayPal” REMEMBER TO FINALIZE PAYMENT THRU PAYPAL – YOU MUST COMPLETE THE STEPS BELOW FOR PAYMENT Click “Pay Now” “Pay with Debit or Credit Card” “PayPal Guest Checkout”  “Pay Now” PLEASE NOTE:  YOU WILL RECEIVE A RECEIPT IMMEDIATELY FOLLOWING THE TRANSACTION – PLEASE PRINT FOR YOUR RECORDS \nNOTE:  MEAL REQUEST IS NOT AVAILABLE\n
SUMMARY:Multi-Jurisdictional Estate Planning/Probate - Estate Planning Council of North Texas 
PRIORITY:3
BEGIN:VALARM
TRIGGER:PT18H
ACTION:DISPLAY
DESCRIPTION:Reminder
END:VALARM
END:VEVENT
END:VCALENDAR