BEGIN:VCALENDAR
PRODID:-//hacksw/handcal//NONSGML v1.0//EN
VERSION:2.0
METHOD:PUBLISH
BEGIN:VEVENT
DTSTART:20181206T180000Z
DTEND:20181206T193000Z
LOCATION:Doubletree Hilton (Campbell Centre)
UID:1619020181206T180000ZWealth Transfer Planning/Contemporary Family
DTSTAMP:20260423T182302Z
DESCRIPTION:\nREGISTRATION FOR THIS MEETING IS CLOSED\n \nSEE BELOW FOR WALK-IN DETAILS ON THE DAY OF THE MEETING\n \n \n \nJOINT MEETING WITH DALLAS ESTATE PLANNING COUNCIL\n \n \n \nNOON MEETING\n \nTHURSDAY, DECEMBER 6, 2018\n \n(Lunch served Noon-12:30; Program 12:30-1:30 p.m.)\n \nDOUBLETREE HILTON\n \nAT CAMPBELL CENTRE\n \n(8250 N. Central Expressway, Dallas, 75206)\n \n \n \nRESERVATION DEADLINE: WEDNESDAY, NOVEMBER 28, (5:00 P.M.) \n \n(PAYMENT MUST BE IN COUNCIL’S OFFICE)\n \n \n \nWEALTH TRANSFER PLANNING:  REIMAGING THE ESTATE PLANNING PARADIGM \n \nFOR THE CONTEMPORARY FAMILY\n \n \n \n\n \nHUGH MAGILL\n \n \n \nSponsored by Armanino LLP \n \n \n \nThe attendees will gain insight into the behavioral traits associated with clients they serve across generations and how those traits are affecting marital and family structures.  The changes in marriage practices and family structures have significant implications for the estate planning paradigm and the design of trusts.  The participants will better understand how to plan for clients with more diverse marital and family structures and how they can facilitate effective communication and collaboration for the diverse families they serve. R. Hugh Magill is an Executive Vice President of Northern Trust Corporation, Chicago, where he serves as Chief Fiduciary Officer and Global Director of Trust Services.  In this capacity he is responsible for Northern’s fiduciary services to clients nationally and internationally. He has lectured for the American College of Trust and Estate Counsel, the Heckerling Institute, the Notre Dame Institute, the Kasner Institute, the Northwestern University Center for Family Enterprise, regional bar associations and estate planning councils, and Northern Trust on estate and charitable planning, trust management, family governance, and fiduciary risk management. Magill received a B.A. degree from St. Olaf College in Northfield, Minnesota, and a J.D. degree from the University of Minnesota Law School.\n \n \n \nThere is continuing ed credit pending for this presentation. The program handouts are paperless.  The handout will be available to download on the website (Document Library) a few days prior to each meeting.  YOU may print the handout if you prefer to have a handout at the meeting.\n \n \n \nNote:  Paid membership dues do not include meals.  To register for the meeting, complete the form below, enclose a check (payable to Estate Planning Council of North Texas) for the respective amount (indicated below) and mail to: Estate Planning Council of North Texas, P.O. Box 38553, Dallas, TX  75238-8553. You may register online with a credit card payment on the website:  scroll down to the bottom of the page and register.\n \nPREPAID MEALS:  Members who have already paid in advance for all meetings for the year MUST register so we will have a count for the number of meals to prepare. PREPAID MEMBERS MUST REGISTER ON THE WEBSITE BY THE DEADLINE -  scroll down to the bottom of the page and register.\n \n \n \nTHERE WILL BE 10 MEALS AVAILABLE FOR WALK-INS ON DAY OF MEETING (FIRST COME, FIRST SERVE). ALL OTHER WALK-INS WILL BE “PROGRAM ONLY”.  CREDIT CARDS ARE NOT ACCEPTED AT THE DOOR, CASH OR CHECK ONLY. Member: $37 (includes meal and program); Guest: $60 (includes meal and program);*Member-Program Only: $25 (*ONLY MEMBERS may choose “program only” for $25\n \n \n \nName: ________________________________________\n \n____$37  ___$60____$25 (Member-Program Only)\n \nE-mail: ________________________________________   Phone No: _____________________________________\n \n \n \nWe would like to thank the following Sponsors for their support for 2018-2019: Bank of Texas, Communities Foundation of Texas, Dallas Foundation, Leu & Peirce, Lee Financial Corporation, Lindquist Eisenberg LLP, North Dallas Bank & Trust, Pepkin & Associates, PlainsCapital Bank, Merrill Lynch (The Maynard Group), Texas Bank & Trust and The Catholic Foundation\n \nTO PAY VIA CREDIT CARD:  follow these instructions:\n \nScroll down to “Register Now”\n \nCLICK on “REGISTER NOW” \n \nComplete the contact information\n Payment Method: click “Credit Card or PayPal” REMEMBER TO FINALIZE PAYMENT THRU PAYPAL – YOU MUST COMPLETE THE STEPS BELOW FOR PAYMENT Click “Pay Now” “Pay with Debit or Credit Card” “PayPal Guest Checkout”  “Pay Now” PLEASE NOTE:  YOU WILL RECEIVE A RECEIPT IMMEDIATELY FOLLOWING THE TRANSACTION – PLEASE PRINT FOR YOUR RECORDS
SUMMARY:Wealth Transfer Planning/Contemporary Family - Estate Planning Council of North Texas 
PRIORITY:3
BEGIN:VALARM
TRIGGER:PT18H
ACTION:DISPLAY
DESCRIPTION:Reminder
END:VALARM
END:VEVENT
END:VCALENDAR