BEGIN:VCALENDAR
PRODID:-//hacksw/handcal//NONSGML v1.0//EN
VERSION:2.0
METHOD:PUBLISH
BEGIN:VEVENT
DTSTART:20190417T123000Z
DTEND:20190417T140000Z
LOCATION:Gleneagles Country Club (Plano)
UID:1619420190417T123000ZMetadata, the Cloud and Identify Theft
DTSTAMP:20260423T182452Z
DESCRIPTION:\nREGISTRATION IS CLOSED FOR THIS EVENT.  PLEASE SEE BELOW FOR WALK-IN DETAILS\n \nBREAKFAST MEETING\n \nWEDNESDAY, APRIL 17, 2019\n \n(Breakfast served 7:30-8:00 a.m., Program 8:00-9:00)\n \nNOTE:  MEETING LOCATION\n \nGLENEAGLES COUNTRY CLUB (5401 West Park Blvd., Plano)\n \nRESERVATION DEADLINE:  WEDNESDAY, APRIL 10, 5:00 p.m.\n \n(PAYMENT MUST BE IN COUNCIL’S OFFICE BY WEDNESDAY, APRIL 10)\n \n \n \nMETADATA, THE CLOUD AND IDENTIFY THEFT\n \n\n \nCHRIS MEUSE \n \nSponsored by Texas Bank & Trust\n \n \n \nMetadata.  The Cloud.  Identity Theft.  These subjects and terms are a part of our modern life and lexicon, but what are they and how do they impact our practices and clients?  This presentation intends to define these terms and highlight their import in today’s practice. This includes: discovery of metadata; how metadata is used in litigation; ethical consideration surrounding metadata; uses of the cloud in the office and in litigation; security and HIPAA issues, regarding the cloud; effective use of the cloud with client relations; how identity theft is impacting clients today; and how identity theft and cyber security is impacting law practices today. Chris Meuse is a skilled litigation and collaborative family law attorney with KoonsFuller who has extensive experience handling custody and divorce suits, involving estates of all sizes. Chris’ approach is to know each of his cases well enough to try, while working to reach agreements between the parties. “What I enjoy most about family law is that you have to continually work on creative solutions for each family you’re helping. No two family law cases are alike, and laws have to be uniquely applied. I enjoy strongly advocating for my clients and taking the route that best meets their needs, so they can have the best possible outcome.” Chris Meuse was born in Toledo, OH and graduated from Southlake Carroll High School in Southlake, TX. Chris graduated from the University of Oklahoma with a bachelor of arts in political science and a minor in Spanish. He has participated heavily in Habitat for Humanity and worked on two separate U.S. Congressional campaigns; one Oklahoma gubernatorial campaign; and an Oklahoma City mayoral campaign before attending law school. Chris graduated from the University of Oklahoma, College of Law, where he was Top 20% in his class and received multiple dean’s list awards.\n \n \n \nContinuing education credits approved for State Bar (including .50 ethics), CPA and CFP. \n \n \n \nMembership dues do not include meals.  Credit Cards are now accepted online at the website, [www.epcnt.org](http://www.epcnt.org/)\n \n \n \nMembers who have already paid in advance for all meetings for the year MUST REGISTER ON THE WEBSITE (www.epcnt.org)  so we will have a count for the number of meals to prepare.\n \n \n \nTHERE WLL BE 5 MEALS AVAILABLE FOR WALK-INS ON DAY OF MEETING (FIRST COME, FIRST SERVE). ALL OTHER WALK-INS WILL BE “PROGRAM ONLY”.  NOTE:  WALK-IN PRICES ON DATE OF MEETING:  Member: $30 (includes meal); Guest: $35 (includes meal); Program Only (no meal): $20\n \n \n \nTo mail a check, please complete this form, enclose a check (payable to Estate Planning Council of North Texas) and mail to:  Estate Planning Council of North Texas, P. O. Box 38553, Dallas, TX  75238-8553.\n \n \n \nMember: $25 (includes meal); Guest: $30 (includes meal); Program Only (no meal): $15\n \n \n \nName: ________________________________________\n \n____$25   ___$30 ____$15\n \nE-Mail: ______________________________________\n \nPhone Number: _________________________________\n \n \n \nWe would like to thank the following Sponsors for their support for 2018-2019: Bank of Texas, Communities Foundation of Texas, Dallas Foundation, Leu & Peirce, Lee Financial Corporation, Lindquist Eisenberg LLP, North Dallas Bank & Trust, Pepkin & Associates, PlainsCapital Bank, Merrill Lynch (The Maynard Group), Texas Bank & Trust and The Catholic Foundation\n \n \n \n \n \nTO PAY VIA CREDIT CARD:  follow these instructions:\n \nScroll down to “Register Now”\n \nCLICK on “REGISTER NOW” \n \nComplete the contact information\n Payment Method: click “Credit Card or PayPal” REMEMBER TO FINALIZE PAYMENT THRU PAYPAL – YOU MUST COMPLETE THE STEPS BELOW FOR PAYMENT Click “Pay Now” “Pay with Debit or Credit Card” “PayPal Guest Checkout”  “Pay Now” PLEASE NOTE:  YOU WILL RECEIVE A RECEIPT IMMEDIATELY FOLLOWING THE TRANSACTION – PLEASE PRINT FOR YOUR RECORDS \nNOTE:  MEAL REQUEST IS NOT AVAILABLE\n
SUMMARY:Metadata, the Cloud and Identify Theft - Estate Planning Council of North Texas 
PRIORITY:3
BEGIN:VALARM
TRIGGER:PT18H
ACTION:DISPLAY
DESCRIPTION:Reminder
END:VALARM
END:VEVENT
END:VCALENDAR