BEGIN:VCALENDAR
PRODID:-//hacksw/handcal//NONSGML v1.0//EN
VERSION:2.0
METHOD:PUBLISH
BEGIN:VEVENT
DTSTART:20200219T133000Z
DTEND:20200219T150000Z
LOCATION:Gleneagles Country Club
UID:1785420200219T133000ZMineral Interests in Estates/Trusts
DTSTAMP:20260423T180715Z
DESCRIPTION:\nREGISTRATION FOR THIS EVENT IS CLOSED\n \nSEE BELOW FOR WALK-IN DETAILS\n \nBREAKFAST MEETING\n \nWEDNESDAY, FEBRUARY 19, 2020\n \n(Breakfast served 7:30-8:00 a.m., Program 8:00-9:00)\n \nNOTE:  MEETING LOCATION\n \nGLENEAGLES COUNTRY CLUB (5401 West Park Blvd., Plano)\n \nRESERVATION DEADLINE:  WEDNESDAY, FEBRUARY 12, 5:00 p.m.\n \n(PAYMENT MUST BE IN COUNCIL’S OFFICE BY WEDNESDAY, FEBRUARY 12)\n \n \n \nHANDLING MINERAL INTERESTS IN ESTATES AND PROBATE \n \nVIRGINIA MOORE\n \n\n \nSponsored by Communities Foundation of Texas and Plains Capital Bank\n \n \n \nAs the oil and gas field has developed in the last twenty years, the wealth transfer associated with long-held mineral interests being devised to new generations has created a knowledge vacuum in how to locate, value and transfer mineral interests as part of the estate planning and probate process.  This presentation will present a basic understanding of how to ensure this class of assets are preserved through the estate planning and probate process. A final discussion will be directed to the importance of providing clients with information for long-term management options and the importance of reviewing with those serving as fiduciaries the need to review and implement minimum protections before estate transfers occur of record, whether through recorded probates or via estate distribution deeds to beneficiaries. Mineral interests have long been deemed a source of generational wealth and great care has been taken by prior generations to ensure that they pass to future generations without loss. Virginia A. Moore has had a varied career coupled with a lifetime of experience in the field of oil and gas.  She is an honors’ graduate of the University of Houston Bates College of Law where she tailored her studies around oil and gas and environmental law, clerking for Keith Blinn, then General Counsel of Conoco Oil Company and Adjunct Professor of Oil and Gas Law. She has had her own firm for many years and since the advent of the Barnett Shale, her practice has been dominated by oil and gas law, representing hundreds of mineral and royalty owners, individually and in groups, in lease negotiations and other matters.  For the last ten years, Ms. Moore’s practice has also had a primary focus on assisting clients in locating, identifying, transferring and valuing mineral estates as part of probate and trust transactions.\n \nContinuing education credits pending for State Bar, CPA, CFP \n \nMembership dues do not include meals.  Credit Cards are now accepted online at the website - scroll down to the bottom to register  Members who have already paid in advance for all meetings for the year MUST REGISTER ON THE WEBSITE so we will have a count for the number of meals to prepare. THERE WLL BE 5 MEALS AVAILABLE FOR WALK-INS ON DAY OF MEETING (FIRST COME, FIRST SERVE). ALL OTHER WALK-INS WILL BE “PROGRAM ONLY”.  NOTE:  WALK-IN PRICES ON DATE OF MEETING:  Member: $30 (includes meal); Guest: $35 (includes meal); Program Only (no meal): $20\n \nTo mail a check, please complete this form, enclose a check (payable to Estate Planning Council of North Texas) and mail to:  Estate Planning Council of North Texas, P. O. Box 38553, Dallas, TX  75238-8553.\n \nMember: $25 (includes meal); Guest: $30 (includes meal); Program Only (no meal): $15\n \nName: _______________________________________ \n \n____$25  ___$30   ____$15\n \nE-Mail: ______________________________________\n \nPhone Number: ________________________________\n \n \n \nWe would like to thank the following Sponsors for their support for 2019-2020:  American Cancer Society, Armanino, Bank of Texas, Communities Foundation of Texas, Frost Bank, Glast Phillips & Murray,  Leu & Peirce, Lee Financial Corporation, Lindquist Eisenberg LLP, North Dallas Bank & Trust, PlainsCapital Bank, Merrill Lynch (The Maynard Group), Regions Bank, Texas Bank & Trust, The Catholic Foundation and Value, Inc.\n \n \n \nTO PAY VIA CREDIT CARD:  follow these instructions:\n \nScroll down to “Register Now”\n \nCLICK on “REGISTER NOW” \n \nComplete the contact information\n Payment Method: click “Credit Card or PayPal” REMEMBER TO FINALIZE PAYMENT THRU PAYPAL – YOU MUST COMPLETE THE STEPS BELOW FOR PAYMENT Click “Pay Now” “Pay with Debit or Credit Card” “PayPal Guest Checkout”  “Pay Now” PLEASE NOTE:  YOU WILL RECEIVE A RECEIPT IMMEDIATELY FOLLOWING THE TRANSACTION – PLEASE PRINT FOR YOUR RECORDS \nNOTE:  SPECIAL MEAL REQUEST IS NOT AVAILABLE\n
SUMMARY:Mineral Interests in Estates/Trusts - Estate Planning Council of North Texas 
PRIORITY:3
BEGIN:VALARM
TRIGGER:PT18H
ACTION:DISPLAY
DESCRIPTION:Reminder
END:VALARM
END:VEVENT
END:VCALENDAR