BEGIN:VCALENDAR
PRODID:-//hacksw/handcal//NONSGML v1.0//EN
VERSION:2.0
METHOD:PUBLISH
BEGIN:VEVENT
DTSTART:20200520T123000Z
DTEND:20200520T140000Z
LOCATION:
UID:1785720200520T123000ZCANCELLED What's Legal vs. Insurable/Title Company
DTSTAMP:20260423T180413Z
DESCRIPTION:\nTHIS EVENT HAS BEEN CANCELLED.\n
SUMMARY:CANCELLED What's Legal vs. Insurable/Title Company - Estate Planning Council of North Texas 
PRIORITY:3
BEGIN:VALARM
TRIGGER:PT18H
ACTION:DISPLAY
DESCRIPTION:Reminder
END:VALARM
END:VEVENT
END:VCALENDAR