BEGIN:VCALENDAR
PRODID:-//hacksw/handcal//NONSGML v1.0//EN
VERSION:2.0
METHOD:PUBLISH
BEGIN:VEVENT
DTSTART:20210120T140000Z
DTEND:20210120T150000Z
LOCATION:VIRTUAL
UID:1947420210120T140000ZSummary of the New Tax Laws Generated in Response to COVID 19
DTSTAMP:20260423T180931Z
DESCRIPTION:\n \nREGISTRATION FOR THIS EVENT IS CLOSED\n \nLIVE WEBINAR \n \nWEDNESDAY, JANUARY 20, 2021\n \nNOTE TIME: 8:00 a.m.\n \nRegistration Deadline: JANUARY 13 (5:00 p.m.)\n \n \n \nSUMMARY OF THE NEW TAX LAWS GENERATED IN RESPONSE TO COVID 19\n \nKEVIN HARRIS\n \n\n \n \nSponsored by Communities Foundation of Texas and Texas Bank & Trust\n \nIn April 2020, the IRS released several pieces of guidance providing taxpayers with the ability to receive immediate cash flow benefits and implement tax planning opportunities associated with changes made under the Coronavirus Aid, Relief, and Economic Security (CARES) Act. Kevin Harris, Tax Partner, will review the individual tax provisions, the business tax provisions, and tax planning strategies.  Kevin Harris, CPA serves as the head of the GPP tax department and is a member of the Covid-19 Business Assistance Team. His responsibilities include federal and state tax compliance and consulting in the manufacturing, retail, restaurant, and construction industries. Kevin’s extensive previous experience includes 11 years in public accounting, with five years each at Ernst & Young LLP and Montgomery Coscia Greilich LLP, and 15 years in operations with United Supermarkets LLC.\n \nContinuing education credits pending for State Bar, CPA, CFP \n \nThis presentation will be offered as “Program Only” for members ($10) and non-members ($20).\n \nRegister with the link below.\n \nAfter registration closes, an additional email (check spam folder too) will be distributed to the registrants regarding access instructions to the online presentation and continuing education credits. If someone is registering for you, please be sure YOUR EMAIL ADDRESS is listed in the RSVP form.  REGISTRATION WILL NOT BE AVAILABLE AFTER THE REGISTRATION DEADLINE. ONLY THOSE WHO REGISTERED BY THE REGISTRATION DEADLINE WILL RECEIVE THE LINK TO THE LIVE WEBINAR PRESENTATION. THERE ARE NO EXCEPTIONS.\n \nWe would like to thank the following Sponsors for their support for 2020-2021:  Argent Trust, Armanino, Bank of Texas, Communities Foundation of Texas, Frost Bank, Glast Phillips & Murray, Leu & Peirce, Lindquist Eisenberg LLP, North Dallas Bank & Trust, PlainsCapital Bank, Merrill Lynch (The Maynard Group), Regions Bank, Texas Bank & Trust, The Catholic Foundation and Value, Inc.\n \nPAYMENT IS REQUIRED TO ATTEND THIS MEETING\n \nTO PAY VIA CREDIT CARD:  follow these instructions:\n \nScroll down to “Register Now”\n \nCLICK on “REGISTER NOW” \n \nComplete the contact information\n Payment Method: click “Credit Card or PayPal” REMEMBER TO FINALIZE PAYMENT THRU PAYPAL – YOU MUST COMPLETE THE STEPS BELOW FOR PAYMENT Click “Pay Now” “Pay with Debit or Credit Card” “PayPal Guest Checkout”  “Pay Now” PLEASE NOTE:  YOU WILL RECEIVE A RECEIPT IMMEDIATELY FOLLOWING THE TRANSACTION – PLEASE PRINT FOR YOUR RECORDS \n \n
SUMMARY:Summary of the New Tax Laws Generated in Response to COVID 19 - Estate Planning Council of North Texas 
PRIORITY:3
BEGIN:VALARM
TRIGGER:PT18H
ACTION:DISPLAY
DESCRIPTION:Reminder
END:VALARM
END:VEVENT
END:VCALENDAR