BEGIN:VCALENDAR
PRODID:-//hacksw/handcal//NONSGML v1.0//EN
VERSION:2.0
METHOD:PUBLISH
BEGIN:VEVENT
DTSTART:20210421T130000Z
DTEND:20210421T140000Z
LOCATION:Virtual
UID:1947720210421T130000ZM&A Issues and Considerations
DTSTAMP:20260423T180843Z
DESCRIPTION:\nLIVE WEBINAR \n \nWEDNESDAY, APRIL 21, 2021\n \nNOTE TIME: 8:00 a.m.\n \nRegistration Deadline: APRIL 14 (5:00 p.m.)\n \nM&a issues and considerations\n \nBRANDON JONES\n \n\n \nSponsored by PlainsCapital Bank and Value, Inc.\n \nThe presentation will provide a high-level overview of the M&A process.  Specific attention will be given to addressing the importance general deal structuring issues, including income tax considerations, at the Letter of Intent stage. Also included will be addressing the basic components of a purchase agreement, as well as discussing customary ancillary documents and related schedules. Brandon Jones, JD is a member of Winstead’s Tax Practice Group. With almost 20 years of experience, Brandon spends most of his time assisting and advising closely-held and family-owned businesses and private equity clients in connection with (i) the formation of their business entities including drafting and negotiating the related governing documents, (ii) structuring and restructuring their investment and business holdings and operations (for asset protection, income tax planning, estate planning, and other commercial purposes), (iii) corporate governance matters, and (iv) drafting/negotiating joint venture agreements, purchase agreements, buy-sell agreements, private offering documents, and other agreements and/or documents related to mergers, acquisitions, dispositions, spin offs and other general commercial matters.\n \nContinuing education credits pending for State Bar, CPA, CFP. The handout (if any) will be available on the website under the document library a few days prior to the presentation.\n \nThis presentation will be offered as “Program Only” for members ($10) and non-members ($20).\n \nRegister with the link below\n \nAfter registration closes, an additional email (check spam folder too) will be distributed to the registrants regarding access instructions to the online presentation and continuing education credits. If someone is registering for you, please be sure YOUR EMAIL ADDRESS is listed in the RSVP form.  REGISTRATION WILL NOT BE AVAILABLE AFTER THE REGISTRATION DEADLINE. ONLY THOSE WHO REGISTERED BY THE REGISTRATION DEADLINE WILL RECEIVE THE LINK TO THE LIVE WEBINAR PRESENTATION. THERE ARE NO EXCEPTIONS.\n \nWe would like to thank the following Sponsors for their support for 2020-2021:  Argent Trust, Armanino, Bank of Texas, Communities Foundation of Texas, Frost Bank, Glast Phillips & Murray, Leu & Peirce, Lindquist Eisenberg LLP, North Dallas Bank & Trust, PlainsCapital Bank, Merrill Lynch (The Maynard Group), Regions Bank, Texas Bank & Trust, The Catholic Foundation and Value, Inc.\n \nPAYMENT IS REQUIRED TO ATTEND THIS MEETING\n \nTO PAY VIA CREDIT CARD:  follow these instructions:\n \nScroll down to “Register Now”\n \nCLICK on “REGISTER NOW” \n \nComplete the contact information\n Payment Method: click “Credit Card or PayPal” REMEMBER TO FINALIZE PAYMENT THRU PAYPAL – YOU MUST COMPLETE THE STEPS BELOW FOR PAYMENT Click “Pay Now” “Pay with Debit or Credit Card” “PayPal Guest Checkout”  “Pay Now” PLEASE NOTE:  YOU WILL RECEIVE A RECEIPT IMMEDIATELY FOLLOWING THE TRANSACTION – PLEASE PRINT FOR YOUR RECORDS \n \n \n \n
SUMMARY:M&A Issues and Considerations - Estate Planning Council of North Texas 
PRIORITY:3
BEGIN:VALARM
TRIGGER:PT18H
ACTION:DISPLAY
DESCRIPTION:Reminder
END:VALARM
END:VEVENT
END:VCALENDAR