BEGIN:VCALENDAR
PRODID:-//hacksw/handcal//NONSGML v1.0//EN
VERSION:2.0
METHOD:PUBLISH
BEGIN:VEVENT
DTSTART:20220929T220000Z
DTEND:20220930T000000Z
LOCATION:Gleneagles Country Club
UID:2273620220929T220000ZSocial Networking Event
DTSTAMP:20260423T182230Z
DESCRIPTION:\nESTATE PLANNING COUNCIL OF NORTH TEXAS\n \nSOCIAL NETWORKING EVENT\n \nMEMBERS AND PROSPECTIVE MEMBERS ARE INVITED!\n \nSPONSORED BY VALUE INCORPORATED\n \n \n \nWE ENCOURAGE YOU TO RSVP ONLY IF YOU WILL BE ABLE TO ATTEND IN ORDER TO HAVE AN ACCURATE HEAD COUNT FOR FOOD AND DRINKS. \n \nSEPTEMBER 29, 5:00-7:00 P.M.\n \nGLENEAGLES COUNTRY CLUB (5401 W. Park Blvd., Plano)\n \nRSVP DEADLINE: September 21 (5:00 p.m.)\n \n(RSVP is required to attend the event)\n \n \n
SUMMARY:Social Networking Event - Estate Planning Council of North Texas 
PRIORITY:3
BEGIN:VALARM
TRIGGER:PT18H
ACTION:DISPLAY
DESCRIPTION:Reminder
END:VALARM
END:VEVENT
END:VCALENDAR