BEGIN:VCALENDAR
PRODID:-//hacksw/handcal//NONSGML v1.0//EN
VERSION:2.0
METHOD:PUBLISH
BEGIN:VEVENT
DTSTART:20221019T123000Z
DTEND:20221019T140000Z
LOCATION:Gleneagles Country Club
UID:2275820221019T123000ZTrust Alphabet Soup
DTSTAMP:20260423T181358Z
DESCRIPTION:\nREGISTRATION IS CLOSED FOR THIS EVENT\n \nWALK-INS ARE NOT GUARANTEED A MEAL\n \nCASH OR CHECK ONLY AT THE DOOR\n \n \n \n“IN PERSON” BREAKFAST MEETING \n \nWEDNESDAY, OCTOBER 19, 2022\n \n(Breakfast served 7:30-8:00 a.m., Program 8:00-9:00)\n \nGLENEAGLES COUNTRY CLUB (5401 West Park Blvd., Plano)\n \nRegistration Deadline: October 12 (5:00 p.m.)\n \nREGISTRATION WILL NOT BE AVAILABLE AFTER THE REGISTRATION DEADLINE\n \n(Virtual Option Not Available/Presentation Will Not Be Recorded)\n \n TRUST ALPHABET SOUP\n \nCHRISTINE WAKEMAN\n \n\n \nSponsored by Communities Foundation of Texas and Vaquero Private Wealth\n \nHave you ever been talking to an estate planner who uses an acronym and you have no idea what it means? Offering a timely solution to this problem, "Trust Alphabet Soup" offers demystifies current terminology used most by estate planning attorneys. Estate planning professionals employ an array of acronyms to describe techniques of their trade. While these acronyms are convenient for those “in the know” they can be confusing for those who do not speak estate planning fluently.  This presentation is also timely for identifying common tools in wealth preservation today. In spite of your level of professional experience and degrees of training, this presentation will help you translate the language of estate planning to clients and other advisors. Christine S. Wakeman is a member of Winstead’s Wealth Preservation Practice Group. She is a fellow of the American College of Trust and Estate Counsel.  She is board certified in Estate Planning and Probate Law by the Texas Board of Legal Specialization.  She received her J.D. from Southern Methodist University Dedman School of Law, cum laude, and her B.A. from the University of Oklahoma.  Ms. Wakeman focuses her practice on traditional estate planning with an emphasis on charitable planning and the transfer tax planning aspects of trusts and estates.  Her experience includes drafting a variety of estate planning documents, preparing federal estate and gift tax returns and private letter rulings, assisting with Internal Revenue Service examinations, and assisting clients with private foundations, probate matters, fiduciary litigation, the creation and administration of various business entities, transfer tax planning, and pre-marital and post-marital property issues. \n \nThere are pending continuing education credits for this meeting. The handout will be available on the website under the document library a few days prior to the presentation.\n \nREGISTER WITH THE LINK BELOW.\n \nWe would like to thank the following Sponsors for their support for 2022-2023: Argent Trust, Armanino, Communities Foundation of Texas, Frost Bank, Glast Phillips & Murray, Lindquist Eisenberg LLP, North Dallas Bank & Trust, PlainsCapital Bank, Regions Bank, Texas Bank & Trust, Security National Bank, The Catholic Foundation, Value, Inc, Vaquero Private Wealth, American National Bank & Trust, Texas Health Resources Foundation, Ozark Trust & Wealth and The Weeks Law Firm.\n \nPLEASE READ IMPORTANT NOTE BELOW!\n \nIMPORTANT NOTE: SIGN IN SHEETS WILL NOT BE AVAILABLE AT THE MEETING. THE CONTINUING EDUCATION SUBMISSION LINKS  WILL BE DISPLAYED ON THE RSVP CONFIRMATION RECEIPT IMMEDIATELY AFTER REGISTRATION.  SAVE THE LINKS FOR THE DAY OF THE MEETING!\n \nPAYMENT IS REQUIRED FOR MEETING REGISTRATION.\n \n$25 - Member (program and meal)\n \n$35 - Guest (program and meal)\n \n$15 - Member (program only/no meal)\n \n$20 - Guest (program only/no meal)\n \nTO PAY VIA CREDIT CARD:  follow these instructions:\n \nScroll down to “Register Now”\n \nCLICK on “REGISTER NOW” \n \nComplete the contact information\n Payment Method: click “Credit Card or PayPal” REMEMBER TO FINALIZE PAYMENT THRU PAYPAL – YOU MUST COMPLETE THE STEPS BELOW FOR PAYMENT Click “Pay Now” “Pay with Debit or Credit Card” “PayPal Guest Checkout”  “Pay Now” PLEASE NOTE:  YOU WILL RECEIVE A RECEIPT IMMEDIATELY FOLLOWING THE TRANSACTION – PLEASE PRINT FOR YOUR RECORDS
SUMMARY:Trust Alphabet Soup - Estate Planning Council of North Texas 
PRIORITY:3
BEGIN:VALARM
TRIGGER:PT18H
ACTION:DISPLAY
DESCRIPTION:Reminder
END:VALARM
END:VEVENT
END:VCALENDAR