BEGIN:VCALENDAR
PRODID:-//hacksw/handcal//NONSGML v1.0//EN
VERSION:2.0
METHOD:PUBLISH
BEGIN:VEVENT
DTSTART:20230118T133000Z
DTEND:20230118T150000Z
LOCATION:Gleneagles Country Club
UID:2276220230118T133000ZWomen and Wealth
DTSTAMP:20260423T181156Z
DESCRIPTION:\nRegistration for this Event is Closed\n \nWalk-ins will not be guaranteed a meal\n \nCash or Check Only at the Door\n \n \n \nBREAKFAST MEETING \n \nWEDNESDAY, JANUARY 18, 2023\n \n(Breakfast served 7:30-8:00 a.m., Program 8:00-9:00)\n \nGLENEAGLES COUNTRY CLUB (5401 West Park Blvd., Plano)\n \nRegistration Deadline: January 11 (5:00 p.m.)\n \nREGISTRATION WILL NOT BE AVAILABLE AFTER THE REGISTRATION DEADLINE\n \n(Virtual Option Not Available/Presentation Will Not Be Recorded)\n \nWOMEN AND WEALTH 2023\n \n\n \nSTEPH WAGNER\n \nSponsored by American National Bank & Trust and Weeks Law Firm             \n \nWomen are creating wealth at an unprecedented rate - with 114% more women entrepreneurs than 20 years ago. The proportion of women in senior management roles globally grew to 31% in 2021. By 2030 approximately $30 trillion in wealth will be passed down from the baby boomer generation with women poised to be some of the largest beneficiaries. This dynamic will create challenges, especially for those who are at the helm of their financial life for the first time. The program will address the current state of women and wealth, as well as key opportunities for advisors to consider as they look to play a critical role in women's financial success. Attendees will learn strategies for effective collaboration among the advisory team, such as how to create a personal connection, engage team members, produce effective messaging, and how to think creatively and resourcefully. Additionally, attendees will learn how to assist the client come to an understanding of their full spectrum of needs and to identify and execute solutions.\n \nSteph Wagner is the National Director of Women & Wealth at The Northern Trust Company. Steph is responsible for leading the firm’s advisory practice for women and oversees its Elevating Women platform. Over the years, she has developed a specialized expertise in utilizing financial strategies and empowering women with the resources to become effective stewards of their wealth. Steph has also worked extensively with women across the country to help them address the financial impact of widowhood, secure equitable settlements in marriage dissolutions, and establish a solid foundation for their next chapter. Steph’s expertise has been featured in Entrepreneur Magazine, MarketWatch, Fox News, Yahoo Finance, Business Insider, Barron’s and Bloomberg. Steph is a graduate of The University of Southern California Marshall School of Business.\n \nThere are pending continuing education credits for this meeting. The handout will be available on the website under the document library a few days prior to the presentation.\n \nRegister with the link below.\n \n We would like to thank the following Sponsors for their support for 2022-2023: Argent Trust, Armanino, Communities Foundation of Texas, Frost Bank, Glast Phillips & Murray, Lindquist Eisenberg LLP, North Dallas Bank & Trust, PlainsCapital Bank, Regions Bank, Texas Bank & Trust, Security National Bank, The Catholic Foundation, Value, Inc, Vaquero Private Wealth, American National Bank & Trust, Texas Health Resources Foundation, Ozark Trust & Wealth and The Weeks Law Firm.\n \nIMPORTANT: Sign in Sheets will not be available at the meeting. The continuing ed links are provided with receipt - save the links for the day of the meeting (submission deadline: 1/24/23)\n \nPAYMENT IS REQUIRED FOR MEETING REGISTRATION.\n \n$25 - Member (program and meal)\n \n$35 - Guest (program and meal)\n \n$15 - Member (program only/no meal)\n \n$20 - Guest (program only/no meal)\n \nTO PAY VIA CREDIT CARD:  follow these instructions:\n \nScroll down to “Register Now”\n \nCLICK on “REGISTER NOW” \n \nComplete the contact information\n Payment Method: click “Credit Card or PayPal” REMEMBER TO FINALIZE PAYMENT THRU PAYPAL – YOU MUST COMPLETE THE STEPS BELOW FOR PAYMENT Click “Pay Now” “Pay with Debit or Credit Card” “PayPal Guest Checkout”  “Pay Now” PLEASE NOTE:  YOU WILL RECEIVE A RECEIPT IMMEDIATELY FOLLOWING THE TRANSACTION – PLEASE PRINT FOR YOUR RECORDS
SUMMARY:Women and Wealth - Estate Planning Council of North Texas 
PRIORITY:3
BEGIN:VALARM
TRIGGER:PT18H
ACTION:DISPLAY
DESCRIPTION:Reminder
END:VALARM
END:VEVENT
END:VCALENDAR