BEGIN:VCALENDAR
PRODID:-//hacksw/handcal//NONSGML v1.0//EN
VERSION:2.0
METHOD:PUBLISH
BEGIN:VEVENT
DTSTART:20230315T123000Z
DTEND:20230315T140000Z
LOCATION:Gleneagles Country Club
UID:2276420230315T123000ZResources/Considerations in Caring for Aging Parents/Family
DTSTAMP:20260423T181542Z
DESCRIPTION:\nREGISTRATION FOR THIS EVENT IS CLOSED\n \nWALK-INS ARE NOT GUARANTEED A MEAL\n \nCASH OR CHECK ONLY AT THE DOOR\n \nBREAKFAST MEETING \n \nWEDNESDAY, MARCH 15, 2023\n \n(Breakfast served 7:30-8:00 a.m., Program 8:00-9:00)\n \nGLENEAGLES COUNTRY CLUB (5401 West Park Blvd., Plano)\n \nRegistration Deadline: March 8 (5:00 p.m.)\n \nREGISTRATION WILL NOT BE AVAILABLE AFTER THE REGISTRATION DEADLINE\n \n(Virtual Option Not Available/Presentation Will Not Be Recorded)\n \nFACING THE SILVER TSUNAMI\n \nMINDY JONES\n \n\n \nSponsored by Regions Bank and OZK Trust and Wealth    \n \nAs advisors, we are all aware of issues surrounding planning and wealth transfer.But what about healthcare services, benefits and resources both for clients and our own loved ones? Join us as Mindy Jones with PyxisCare Management shares about the concept of care management with real-world examples of support and solutions. Mindy Jones founded Pyxis Care Management, a healthcare advocacy firm. She pairs her passion for improving lives with health industry expertise and 20 years of management and corporate experience with extensive senior management background in business analysis, sales and marketing.  Mindy is a Certified Senior Advisor and was named a “Healthcare Hero” by the Fort Worth Business Press. \n \nThere are no continuing education credits for this meeting. The handout will be available on the website under the document library a few days prior to the presentation.\n \nRegister with the link below\n \nWe would like to thank the following Sponsors for their support for 2022-2023: Argent Trust, Armanino, Communities Foundation of Texas, Frost Bank, Glast Phillips & Murray, Lindquist Eisenberg LLP, North Dallas Bank & Trust, PlainsCapital Bank, Regions Bank, Texas Bank & Trust, Security National Bank, The Catholic Foundation, Value, Inc, Vaquero Private Wealth, American National Bank & Trust, Texas Health Resources Foundation, Ozark Trust & Wealth and The Weeks Law Firm.\n \nPAYMENT IS REQUIRED FOR MEETING REGISTRATION.\n \n$25 - Member (program and meal)\n \n$35 - Guest (program and meal)\n \n$15 - Member (program only/no meal)\n \n$20 - Guest (program only/no meal)\n \nTO PAY VIA CREDIT CARD:  follow these instructions:\n \nScroll down to “Register Now”\n \nCLICK on “REGISTER NOW” \n \nComplete the contact information\n Payment Method: click “Credit Card or PayPal” REMEMBER TO FINALIZE PAYMENT THRU PAYPAL – YOU MUST COMPLETE THE STEPS BELOW FOR PAYMENT Click “Pay Now” “Pay with Debit or Credit Card” “PayPal Guest Checkout”  “Pay Now” PLEASE NOTE:  YOU WILL RECEIVE A RECEIPT IMMEDIATELY FOLLOWING THE TRANSACTION – PLEASE PRINT FOR YOUR RECORDS
SUMMARY:Resources/Considerations in Caring for Aging Parents/Family - Estate Planning Council of North Texas 
PRIORITY:3
BEGIN:VALARM
TRIGGER:PT18H
ACTION:DISPLAY
DESCRIPTION:Reminder
END:VALARM
END:VEVENT
END:VCALENDAR