BEGIN:VCALENDAR
PRODID:-//hacksw/handcal//NONSGML v1.0//EN
VERSION:2.0
METHOD:PUBLISH
BEGIN:VEVENT
DTSTART:20240117T133000Z
DTEND:20240117T150000Z
LOCATION:Gleneagles Country Club
UID:2431720240117T133000ZMarital Deduction Planning
DTSTAMP:20260423T180758Z
DESCRIPTION:\nREGISTRATION IS CLOSED\n \nWALK-INS ARE NOT GUARANTEED A MEAL\n \nCASH OR CHECK AT THE DOOR\n \n \n \nBREAKFAST MEETING \n \nWEDNESDAY, JANUARY 17, 2024\n \n 7:30 A.M.-9:00 A.M.\n \n(Breakfast served 7:30-8:00 a.m., Program 8:00-9:00)\n \nGLENEAGLES COUNTRY CLUB (5401 West Park Blvd., Plano)\n \nRegistration Deadline: JANUARY 10 (5:00 p.m.)\n \nREGISTRATION WILL NOT BE AVAILABLE AFTER THE REGISTRATION DEADLINE\n \nMARITAL DEDUCTION PLANNING\n \n\n \nSHANNON WEBER\n \nSponsored by Armanino, Commerce Bank and Texas Bank & Trust\n \nEstate planning professionals have witnessed numerous changes in the last fifteen years, including the rapid rise of the estate and gift tax exclusion amount, the introduction of portability and basis consistency reporting requirements, and the SECURE Act and SECURE Act 2.0, to name a few. One of the few constants has been the marital deduction, which generally allows spouses to transfer unlimited amounts of property to one another, whether during life or upon death, on a tax-free basis. This presentation will provide an overview of familiar marital deduction planning concepts in order to examine how to most effectively deploy them in the current estate planning environment. In particular, she will discuss general power of appointment trusts and QTIP trusts and the advantages and disadvantages of each technique. She will also highlight some of the less common ways to qualify for the marital deduction and explore how and when using an unconventional approach may be beneficial. Lastly, she will cover the estate tax reporting requirements for various marital deduction planning techniques and other taxation issues that may arise during the lifetime or upon the death of the surviving spouse.\n \nShannon A. Weber is an associate attorney at Davis Stephenson, PLLC. She assists in representing and counseling high net worth individuals and multi-generational families in achieving their unique estate planning and charitable objectives. This includes drafting a variety of sophisticated estate planning documents, considering transfer tax and marital property issues, advising on trust creation and administration, drafting marital property agreements, and handling estate administration and probate matters. What Shannon enjoys most about her estate planning practice is the opportunity to work closely with clients to understand their family dynamics, values, and unique objectives. She takes pride in being responsive, understanding, and thorough when working with clients and other advisors. \n \nThere are continuing education credits pending for this meeting. The handout (if applicable) will be available on the website under the document library a few days prior to the presentation.\n \nREGISTER WITH THE LINK BELOW.\n \nWe would like to thank the following Sponsors for their support for 2023-2024: Argent Trust, Armanino, Communities Foundation of Texas, Frost Bank, Glast Phillips & Murray, Lindquist Eisenberg LLP, North Dallas Bank & Trust, PlainsCapital Bank, Regions Bank, Texas Bank & Trust, Security National Bank, The Catholic Foundation, Value, Inc, American National Bank & Trust, Texas Health Resources Foundation, Ozark Trust & Wealth, The Weeks Law Firm, Prosperity Bank, JP Morgan, Commerce Bank, Heritage Auctions, Happy Trust Company and Farmers National Company.\n \nPAYMENT IS REQUIRED FOR REGISTRATION.\n \n$30 - Member \n \n$40 - Guest \n \nTO PAY VIA CREDIT CARD:  follow these instructions:\n \nScroll down to “Register Now”\n \nCLICK on “REGISTER NOW” \n \nComplete the contact information\n Payment Method: click “Credit Card or PayPal” REMEMBER TO FINALIZE PAYMENT THRU PAYPAL – YOU MUST COMPLETE THE STEPS BELOW FOR PAYMENT Click “Pay Now” “Pay with Debit or Credit Card” “PayPal Guest Checkout”  “Pay Now” PLEASE NOTE:  YOU WILL RECEIVE A RECEIPT IMMEDIATELY FOLLOWING THE TRANSACTION – PLEASE PRINT FOR YOUR RECORDS \nMPORTANT: Sign in Sheets will not be available at the meeting. The continuing ed links are provided with receipt - save the links for the day of the meeting (submission deadline: 1/23/24)\n
SUMMARY:Marital Deduction Planning - Estate Planning Council of North Texas 
PRIORITY:3
BEGIN:VALARM
TRIGGER:PT18H
ACTION:DISPLAY
DESCRIPTION:Reminder
END:VALARM
END:VEVENT
END:VCALENDAR