BEGIN:VCALENDAR
PRODID:-//hacksw/handcal//NONSGML v1.0//EN
VERSION:2.0
METHOD:PUBLISH
BEGIN:VEVENT
DTSTART:20240221T133000Z
DTEND:20240221T150000Z
LOCATION:Gleneagles Country Club
UID:2431820240221T133000ZOpportunity Zones and 1031 Exchanges
DTSTAMP:20260423T180413Z
DESCRIPTION:\nREGISTRATION IS CLOSED\n \nWALK-INS ARE NOT GUARANTEED A MEAL\n \nCASH OR CHECK ONLY AT THE DOOR\n \nBREAKFAST MEETING \n \nWEDNESDAY, FEBRUARY 21, 2024\n \n 7:30 A.M.-9:00 A.M.\n \n(Breakfast served 7:30-8:00 a.m., Program 8:00-9:00)\n \nGLENEAGLES COUNTRY CLUB (5401 West Park Blvd., Plano)\n \nRegistration Deadline: FEBRUARY 14 (5:00 p.m.)\n \nREGISTRATION WILL NOT BE AVAILABLE AFTER THE REGISTRATION DEADLINE\n \nOPPORTUNITY ZONES AND 1031 EXCHANGES\n \n\n \nMATTHEW HANNAN\n \nSponsored by Communities Foundation of Texas, JP Morgan Chase Bank and Farmers National Company\n \nThe Qualified Opportunity Zone Program (“QOZ Program”), created by the Tax Cuts and Jobs Act of 2017, is a tax-incentive program designed to encourage long-term private sector investments in designated communities known as Qualified Opportunity Zones by delivering certain tax benefits to investors through investment vehicles called Qualified Opportunity Funds. Matthew Hannan is a Regional Director at Cantor Fitzgerald Capital, a global financial services firm and open architecture wholesale distribution company.  CFC aims to leverage the strength of Cantor Fitzgerald to provide institutional solutions to the retail investor.  Matt brings over 20 years of experience in the financial services and the alternative investment industry.  He works directly with registered representatives and investment advisors covering all channels in the Texas and Oklahoma markets.  He earned his Bachelor of Arts Degree from SMU with an Advertising/Marketing Major.  He currently holds FINRA Series 7, 66 65 licenses and the CAIA Fundamentals in Alternatives designation.\n \nThere are continuing education credits pending for this meeting. The handout (if applicable) will be available on the website under the document library a few days prior to the presentation.\n \nREGISTER WITH THE LINK BELOW.\n \nWe would like to thank the following Sponsors for their support for 2023-2024: Argent Trust, Armanino, Communities Foundation of Texas, Frost Bank, Glast Phillips & Murray, Lindquist Eisenberg LLP, North Dallas Bank & Trust, PlainsCapital Bank, Regions Bank, Texas Bank & Trust, Security National Bank, The Catholic Foundation, Value, Inc, American National Bank & Trust, Texas Health Resources Foundation, Ozark Trust & Wealth, The Weeks Law Firm, Prosperity Bank, JP Morgan, Commerce Bank, Heritage Auctions, Happy Trust Company and Farmers National Company.\n \nPAYMENT IS REQUIRED FOR REGISTRATION.\n \n$30 - Member \n \n$40 - Guest \n \nTO PAY VIA CREDIT CARD:  follow these instructions:\n \nScroll down to “Register Now”\n \nCLICK on “REGISTER NOW” \n \nComplete the contact information\n Payment Method: click “Credit Card or PayPal” REMEMBER TO FINALIZE PAYMENT THRU PAYPAL – YOU MUST COMPLETE THE STEPS BELOW FOR PAYMENT Click “Pay Now” “Pay with Debit or Credit Card” “PayPal Guest Checkout”  “Pay Now” PLEASE NOTE:  YOU WILL RECEIVE A RECEIPT IMMEDIATELY FOLLOWING THE TRANSACTION – PLEASE PRINT FOR YOUR RECORDS \nIMPORTANT: Sign in Sheets will not be available at the meeting. The continuing ed links are provided with registration receipt - save the links for the day of the meeting (submission deadline: 2/27/24). RECOMMENDATION: Save the links in a file/folder for easy access for the day of the meeting.\n
SUMMARY:Opportunity Zones and 1031 Exchanges - Estate Planning Council of North Texas 
PRIORITY:3
BEGIN:VALARM
TRIGGER:PT18H
ACTION:DISPLAY
DESCRIPTION:Reminder
END:VALARM
END:VEVENT
END:VCALENDAR