BEGIN:VCALENDAR
PRODID:-//hacksw/handcal//NONSGML v1.0//EN
VERSION:2.0
METHOD:PUBLISH
BEGIN:VEVENT
DTSTART:20241218T133000Z
DTEND:20241218T150000Z
LOCATION:Gleneagles Country Club
UID:2601920241218T133000ZEstate Planning from the Eyes of A Corporate Trustee
DTSTAMP:20260423T181947Z
DESCRIPTION:\nREGISTRATION IS CLOSED FOR THIS EVENT\n \nWALK-INS ARE NOT GUARANTEED A MEAL\n \nCASH OR CHECK AT THE DOOR\n \n \n \nESTATE PLANNING COUNCIL OF NORTH TEXAS\n \nBREAKFAST MEETING \n \nWEDNESDAY, DECEMBER 18, 2024\n \nBreakfast served 7:30-8:00 a.m.\n \nProgram 8:00-9:00 a.m.\n \nGLENEAGLES COUNTRY CLUB (5401 West Park Blvd., Plano)\n \nRegistration Deadline: DECEMBER 10 (5:00 p.m.)\n \nREGISTRATION WILL NOT BE AVAILABLE AFTER THE REGISTRATION DEADLINE \nESTATE PLANNING FROM THE EYES OF A CORPORATE TRUSTEE \n\n \nJACKIE DAVIS\n \nSponsored by Armanino and North Dallas Bank and Trust Company\n \nThe presentation will include the author’s observations since leaving private practice to join the fiduciary side of the trusts and estates profession. The presentation will discuss many “boilerplate” trust provisions that may not be apparent to the client or advisor, but will be of critical importance to the Trustee administering the Trust. This presentation will also outline the top mistakes and/or unintended consequences that the author has observed in reviewing various estate plans, gift tax returns, and other pertinent estate planning documents.\n \nJackie Davis is Senior Vice President and Fiduciary Counsel at Bessemer Trust. In this role, she is responsible for working with clients and their advisors to develop practical and efficient wealth transfer plans, and for guiding the firm on fiduciary issues. Prior to joining Bessemer, Jackie was an attorney in the Wealth Planning group of Jackson Walker LLP, where she advised clients on estate planning, charitable giving, and estate administration.  Jackie earned a J.D. from Baylor Law School and a B.B.A. from Texas Christian University. Jackie is board certified in Estate Planning and Probate Law by Texas Board of Legal Specialization.\n \n\n\n\n \nThere are pending continuing education credits for this meeting. The handout will be available on the website under the document library a few days prior to the presentation.\n \nREGISTER WITH THE LINK BELOW.\n \nWe would like to thank the following Sponsors for their support for 2024-2025: Argent Trust, Armanino, Communities Foundation of Texas, Frost Bank, Glast Phillips & Murray, Lindquist Eisenberg LLP, North Dallas Bank & Trust, Regions Bank, Texas Bank & Trust, Security National Bank, The Catholic Foundation, Value, Inc, American National Bank & Trust, Texas Health Resources Foundation, Prosperity Bank, Heritage Auctions, Saville and Farmers National Company.\n \nIMPORTANT: Sign in Sheets will not be available at the meeting. The continuing ed links are provided with receipt - save the links for the day of the meeting (submission deadline: 12/23/24)\n \nPAYMENT IS REQUIRED FOR REGISTRATION\n \n$30 - Member \n \n$40 - Guest \n \nTO PAY VIA CREDIT CARD:  follow these instructions:\n \nScroll down to “Register Now”\n \nCLICK on “REGISTER NOW” \n \nComplete the contact information\n Payment Method: click “Credit Card or PayPal” REMEMBER TO FINALIZE PAYMENT THRU PAYPAL – YOU MUST COMPLETE THE STEPS BELOW FOR PAYMENT Click “Pay Now” “Pay with Debit or Credit Card” “PayPal Guest Checkout”  “Pay Now” PLEASE NOTE:  YOU WILL RECEIVE A RECEIPT IMMEDIATELY FOLLOWING THE TRANSACTION – PLEASE PRINT FOR YOUR RECORDS \n \n
SUMMARY:Estate Planning from the Eyes of A Corporate Trustee - Estate Planning Council of North Texas 
PRIORITY:3
BEGIN:VALARM
TRIGGER:PT18H
ACTION:DISPLAY
DESCRIPTION:Reminder
END:VALARM
END:VEVENT
END:VCALENDAR