BEGIN:VCALENDAR
PRODID:-//hacksw/handcal//NONSGML v1.0//EN
VERSION:2.0
METHOD:PUBLISH
BEGIN:VEVENT
DTSTART:20250521T123000Z
DTEND:20250521T140000Z
LOCATION:Gleneagles Country Club
UID:2602420250521T123000ZIssues Arising from Trust Termination and Trustee Succession in Texas
DTSTAMP:20260423T182622Z
DESCRIPTION:\nREGISTRATION IS CLOSED FOR THIS EVENT\n \nWALK-INS ARE NOT GUARANTEED A MEAL\n \nCASH OR CHECK AT THE DOOR\n \n \n \nESTATE PLANNING COUNCIL OF NORTH TEXAS\n \nBREAKFAST MEETING \n \nWEDNESDAY, MAY 21\n \nBreakfast served 7:30-8:00 a.m.\n \nProgram 8:00-9:00 a.m.\n \nGLENEAGLES COUNTRY CLUB (5401 West Park Blvd., Plano)\n \nRegistration Deadline: MAY 13 (5:00 p.m.)\n \nREGISTRATION WILL NOT BE AVAILABLE AFTER THE REGISTRATION DEADLINE\n \nISSUES ARISING FROM TRUST TERMINATION AND TRUSTEE SUCCESSION IN TEXAS:  \n \n \n  \n \nDAVID JOHNSON\n \nSponsored by Farmers National Company and American National Bank\n \n \nThis presentation will address the main legal issues that arise when trusts terminate or there is a successor trustee, such as trustee resignation, trustee removal, who can be a successor trustee, co-trustee resignation issues, successor trustee duty to police, prior trustee duty to report, trust termination, impact of termination, a trustee’s wind-up power, claims against beneficiaries, trustee’s duties after termination, release agreements, refunding agreements, and judicial relief.\n \nDavid’s experience in trust and estate disputes includes will contests, elder abuse, mental competency, undue influence, trust modification/reformation/clarification, breach of fiduciary duty and related claims.  He also handles matters involving trust decanting, trust severance and joinder, account disputes, power of attorney disputes, suits for judicial instruction and discharges, heirship proceedings, suits to remove a fiduciary, and accountings. Additionally, David has a transactional practice for trust departments in providing legal opinions on the construction of trust documents, documenting release and consent agreements, resignations, successor appointments, modification of trusts, trust mergers, trust severances, etc.\n \n\n\n\n \nThere are pending continuing education credits for this meeting. The handout will be available on the website under the document library a few days prior to the presentation.\n \nREGISTER WITH THE LINK BELOW.\n \nWe would like to thank the following Sponsors for their support for 2024-2025: Argent Trust, Armanino, Communities Foundation of Texas, Frost Bank, Glast Phillips Murray Zopolsky, Lindquist Eisenberg LLP, North Dallas Bank & Trust, Regions Bank, Texas Bank & Trust, Security National Bank, The Catholic Foundation, Value, Inc, American National Bank & Trust, Texas Health Resources Foundation, Prosperity Bank, Heritage Auctions, Saville and Farmers National Company.\n \nIMPORTANT: Sign in Sheets will not be available at the meeting. The continuing ed links are provided with receipt - save the links for the day of the meeting (submission deadline: 5/26/25)\n \nPAYMENT IS REQUIRED FOR REGISTRATION\n \n$30 - Member \n \n$40 - Guest \n \nTO PAY VIA CREDIT CARD:  follow these instructions:\n \nScroll down to “Register Now”\n \nCLICK on “REGISTER NOW” \n \nComplete the contact information\n Payment Method: click “Credit Card or PayPal” REMEMBER TO FINALIZE PAYMENT THRU PAYPAL – YOU MUST COMPLETE THE STEPS BELOW FOR PAYMENT Click “Pay Now” “Pay with Debit or Credit Card” “PayPal Guest Checkout”  “Pay Now” PLEASE NOTE:  YOU WILL RECEIVE A RECEIPT IMMEDIATELY FOLLOWING THE TRANSACTION – PLEASE PRINT FOR YOUR RECORDS \n \n
SUMMARY:Issues Arising from Trust Termination and Trustee Succession in Texas - Estate Planning Council of North Texas 
PRIORITY:3
BEGIN:VALARM
TRIGGER:PT18H
ACTION:DISPLAY
DESCRIPTION:Reminder
END:VALARM
END:VEVENT
END:VCALENDAR