BEGIN:VCALENDAR
PRODID:-//hacksw/handcal//NONSGML v1.0//EN
VERSION:2.0
METHOD:PUBLISH
BEGIN:VEVENT
DTSTART:20250917T123000Z
DTEND:20250917T140000Z
LOCATION:Gleneagles Country Club
UID:2776320250917T123000ZReligion and Diversity in Estate Planning
DTSTAMP:20260423T182504Z
DESCRIPTION:\nESTATE PLANNING COUNCIL OF NORTH TEXAS\n \nBREAKFAST MEETING \n \nWEDNESDAY, SEPTEMBER 17\n \nBreakfast served 7:30-8:00 a.m.\n \nProgram 8:00-9:00 a.m.\n \nGLENEAGLES COUNTRY CLUB (5401 West Park Blvd., Plano)\n \nRegistration Deadline: SEPTEMBER 9 (5:00 p.m.)\n \nREGISTRATION WILL NOT BE AVAILABLE AFTER THE REGISTRATION DEADLINE\n \nWALK-INS ARE NOT GUARANTEED A MEAL. CASH OR CHECK AT THE DOOR\n \nRELIGION AND DIVERSITY IN ESTATE PLANNING \n \n \n  \n \nSTACY SINGER\n \nSponsored by Heritage Auctions, Saville CPAs & Advisors and Prosperity Bank \n \n \nAs a trust and estate planning professional, you have the rare opportunity to get a glimpse into the personal values and beliefs of your clients. When an estate planning attorney is working with someone strong in their faith, especially when that client has a different faith than that of the attorney, doesn't the attorney provide a greater service to the client with an understanding of how the client's faith might impact their estate plan? This presentation discusses how the religious requirements of Christianity, Islam and Judaism may impact the estate planning for clients who practice those faiths. \n \nStacy Singer is the National Practice Leader for Trust Services and Wealth Advisory at The Northern Trust Company.  She is a Fellow of the American College of Trust and Estate Counsel (ACTEC) and serves as the Illinois State Chair.  Stacy is a regular speaker for the Illinois Institute of Continuing Legal Education and the American Law Institute (formerly ALI-ABA), and has previously spoken at the Notre Dame Tax & Estate Planning Institute, Heckerling Institute on Estate Planning, ACTEC and the Chicago Estate Planning Council.  She has written extensive for numerous publications, including Trusts & Estates, Advancing Philanthropy and Estate Planning.\n \n\n\n\n \nContinuing education credit for attorneys, accountants and financial planners has been approved for this meeting. The handout will be available on the website under the document library a few days prior to the presentation.\n \nREGISTER WITH THE LINK BELOW.\n \nWe would like to thank the following Sponsors for their support for 202-2026: Argent Trust, Armanino, Communities Foundation of Texas, Frost Bank, Glast Phillips Murray Zopolsky, Lindquist Eisenberg LLP, North Dallas Bank & Trust, Regions Bank, Texas Bank & Trust, The Catholic Foundation, Value, Inc, American National Bank & Trust, Texas Health Resources Foundation, Prosperity Bank, Heritage Auctions, Saville CPAs & Advisors, Wealth Advisors Trust Company, Weeks Law Firm, Happy Trust and Farmers National Company.\n \nIMPORTANT: Sign in Sheets will not be available at the meeting. The continuing ed links are provided with receipt - save the links for the day of the meeting (submission deadline: 9/23/25)\n \nPAYMENT IS REQUIRED FOR REGISTRATION\n \n$30 - Member \n \n$40 - Guest \n \nTO PAY VIA CREDIT CARD:  follow these instructions:\n \nScroll down to “Register Now”\n \nCLICK on “REGISTER NOW” \n \nComplete the contact information\n Payment Method: click “Credit Card or PayPal” REMEMBER TO FINALIZE PAYMENT THRU PAYPAL – YOU MUST COMPLETE THE STEPS BELOW FOR PAYMENT Click “Pay Now” “Pay with Debit or Credit Card” “PayPal Guest Checkout”  “Pay Now” PLEASE NOTE:  YOU WILL RECEIVE A RECEIPT IMMEDIATELY FOLLOWING THE TRANSACTION – PLEASE PRINT FOR YOUR RECORDS \nNOTE: If a work computer blocks the payment link, please try using a personal computer\n
SUMMARY:Religion and Diversity in Estate Planning - Estate Planning Council of North Texas 
PRIORITY:3
BEGIN:VALARM
TRIGGER:PT18H
ACTION:DISPLAY
DESCRIPTION:Reminder
END:VALARM
END:VEVENT
END:VCALENDAR