BEGIN:VCALENDAR
PRODID:-//hacksw/handcal//NONSGML v1.0//EN
VERSION:2.0
METHOD:PUBLISH
BEGIN:VEVENT
DTSTART:20251119T133000Z
DTEND:20251119T150000Z
LOCATION:Gleneagles Country Club
UID:2776520251119T133000ZOil & Gas in Estate Planning and Probate
DTSTAMP:20260423T181644Z
DESCRIPTION:\nESTATE PLANNING COUNCIL OF NORTH TEXAS\n \nBREAKFAST MEETING \n \nWEDNESDAY, NOVEMBER 19\n \nBreakfast served 7:30-8:00 a.m.\n \nProgram 8:00-9:00 a.m.\n \nGLENEAGLES COUNTRY CLUB (5401 West Park Blvd., Plano)\n \nRegistration Deadline: NOVEMBER 11 (5:00 p.m.)\n \nREGISTRATION WILL NOT BE AVAILABLE AFTER THE REGISTRATION DEADLINE\n \nWALK-INS ARE NOT GUARANTEED A MEAL. CASH OR CHECK AT THE DOOR\n \nMember: $30\n \nGuest: $40\n \nOIL AND GAS IN ESTATE PLANNING AND PROBATE \n \n \n  \n \nSHAUN RAINEY\n \nSponsored by Armanino, Farmers National Company and Happy Trust \n \n \nThis presentation will first provide some basic principles of the ownership of mineral interests and classification of property.  Next, we will discuss estate planning techniques commonly recommended, and then the management of mineral interests in the administration of an estate.   Additionally, we will outline proper conveyancing and perfecting title on transfer.  Lastly, the presentation will outline some ethical considerations for the attorney handling oil and gas interests in estate planning and probate.\n \nShaun Rainey is a shareholder in the Estate Planning and Probate Section of Cotton, Bledsoe, Tighe & Dawson, PC, and is presently serving as Section Head.  Shaun’s practice is concentrated on estate and wealth preservation and planning, as well as trust administration, and asset protection.  Additionally, Shaun devotes a significant portion of his practice to probate and estate administration, both original and ancillary, and handles contested probate matters. Shaun is Board Certified in Estate Planning and Probate Law by the Texas Board of Legal Specialization.  He is a member of the Texas Bar College, a Fellow of the Texas Bar Foundation, and is presently serving as a member of the Council of the Real Estate, Probate, and Trust Law Section of the State Bar of Texas.\n \n\n\n\n \nContinuing education credit for attorneys, accountants and financial planners has been approved for this meeting. The handout will be available on the website under the document library a few days prior to the presentation.\n \nREGISTER WITH THE LINK BELOW.\n \nWe would like to thank the following Sponsors for their support for 202-2026: Argent Trust, Armanino, Communities Foundation of Texas, Frost Bank, Glast Phillips Murray Zopolsky, Lindquist Eisenberg LLP, North Dallas Bank & Trust, Regions Bank, Texas Bank & Trust, The Catholic Foundation, Value, Inc, American National Bank & Trust, Texas Health Resources Foundation, Prosperity Bank, Heritage Auctions, Saville CPAs & Advisors, Wealth Advisors Trust Company, Weeks Law Firm, Happy Trust and Farmers National Company.\n \nIMPORTANT: Sign in Sheets will not be available at the meeting. The continuing ed links are provided with receipt - save the links for the day of the meeting \n \nPAYMENT IS REQUIRED AT TIME OF REGISTRATION\n \n$30 - Member \n \n$40 - Guest \n \nTO PAY VIA CREDIT CARD:  follow these instructions:\n \nScroll down to “Register Now”\n \nCLICK on “REGISTER NOW” \n \nComplete the contact information\n Payment Method: click “Credit Card or PayPal” REMEMBER TO FINALIZE PAYMENT THRU PAYPAL – YOU MUST COMPLETE THE STEPS BELOW FOR PAYMENT Click “Pay Now” “Pay with Debit or Credit Card” “PayPal Guest Checkout”  “Pay Now” PLEASE NOTE:  YOU WILL RECEIVE A RECEIPT IMMEDIATELY FOLLOWING THE TRANSACTION – PLEASE PRINT FOR YOUR RECORDS \nNOTE: If a work computer blocks the payment link, please try using a personal computer\n
SUMMARY:Oil & Gas in Estate Planning and Probate - Estate Planning Council of North Texas 
PRIORITY:3
BEGIN:VALARM
TRIGGER:PT18H
ACTION:DISPLAY
DESCRIPTION:Reminder
END:VALARM
END:VEVENT
END:VCALENDAR