BEGIN:VCALENDAR
PRODID:-//hacksw/handcal//NONSGML v1.0//EN
VERSION:2.0
METHOD:PUBLISH
BEGIN:VEVENT
DTSTART:20251204T180000Z
DTEND:20251204T193000Z
LOCATION:Doubletree Hilton - CAMPBELL CENTRE
UID:2776620251204T180000ZHow to Establish Trust and Collaboration among Benefactors, Beneficiaries and Trustees
DTSTAMP:20260423T182333Z
DESCRIPTION:\nREGISTRATION IS CLOSED\n \nWALK-INS ARE NOT GUARANTEED A MEAL\n \nCASH OR CHECK AT THE DOOR\n \n$37 (MEMBER MEAL/PROGRAM - IF AVAILABLE)\n \n$50 (GUEST MEAL/PROGRAM - IF AVAILABLE)\n \n$25 - PROGRAM ONLY\n \n \n \nNOTE: THIS IS A JOINT MEETING WITH DALLAS ESTATE PLANNING COUNCIL\n \nLUNCHEON PROGRAM\n \nTHURSDAY, DECEMBER 4, 2025\n \nNOTE LOCATION!\n \nDOUBLETREE HILTON - CAMPBELL CENTRE\n \n8250 N. CENTRAL EXPRESSWAY, DALLAS\n \n(Lunch is served Noon-12:30; Program 12:30-1:30 P.M.)\n \nREGISTRATION DEADLINE: NOVEMBER 25, 2025 (5:00 P.M.)  \n \nREGISTRATION WILL NOT BE AVAILABLE AFTER THE REGISTRATION DEADLINE - NO EXCEPTIONS\n \nWALK-INS ARE NOT GUARANTEED A MEAL\n \nCASH OR CHECK AT THE DOOR\n \n$37 - MEMBER WITH MEAL\n \n$50 - GUEST WITH MEAL\n \n$25 - PROGRAM ONLY/NO MEAL\n \n \n \nTHE POWERS OF TRANSPARENCY:\n \nHOW TO ESTABLISH TRUST AND COLLABORATION\n \nAMONG BENEFACTORS, BENEFICIARIES AND TRUSTEES\n \n\n \nLUKE JERNAGAN\n \n\n\n\n \n\n\n\n \n\n\n\n \n\n\n\n \nLuke will share data that explains why transparency is hard for families to embrace. He will then explain the benefits of transparency, outline tools for attorneys and advisors to employ to achieve transparency in families and share several stories of best practices adopted by families who have done this well.\n \nLuke Jernagan is dedicated to helping individuals and families live joyful, fulfilling, and meaningful lives. He pursued this life mission as an Episcopal priest for 15 years before transitioning to his current role as managing director of family learning at Matter Family Office. As the chair of Matter’s Culture & Learning Committee, Luke develops innovative practices that help families learn, grow, and align their financial wealth with their values. He regularly facilitates family meetings and works with Matter’s client teams to develop their communication and collaboration skills. Luke is certified in multigenerational advising, facilitation, and training through 21/64; has a certificate in financial psychology and behavioral finance from Creighton University; and a dual certificate in family business and family wealth advising from the Family Firm Institute. He is the board president of the Cricket Island Foundation, which supports youth-led social change across the US, and a board member of Social Venture Partners in St. Louis.\n \nThere is continuing ed credit pending approval for attorneys, accountants and financial planners for this presentation. The presentation will be posted on the website document library a few days prior to the presentation.   \n \nPlease register online with a credit card payment on the website: scroll down to the bottom of the page and register. LOG IN IS NOT REQUIRED TO REGISTER.  If you need a receipt, print out the confirmation page (receipt will not be sent to a 3rd party).  \n \nWe would like to thank the following Sponsors for their support for 2025-2026: Argent Trust, Armanino, Communities Foundation of Texas, Frost Bank, Glast Phillips Murray Zopolsky, Lindquist Eisenberg LLP, North Dallas Bank & Trust, Regions Bank, Texas Bank & Trust, The Catholic Foundation, Value, Inc, American National Bank & Trust, Texas Health Resources Foundation, Prosperity Bank, Heritage Auctions, Saville CPAs & Advisors, Wealth Advisors Trust Company, Weeks Law Firm, Happy Trust and Farmers National Company.\n \nIMPORTANT: PLEASE READ BELOW!\n \nTHE CONTINUING EDUCATION SUBMISSION LINKS  ARE DISPLAYED IMMEDIATELY WITH THE REGISTRATION CONFIRMATION. SIGN-IN SHEETS WILL NOT BE AVAILABLE AT THE MEETING. SUBMIT ATTENDANCE AFTER THE MEETING WITH THE LINKS. SUBMISSION DEADLINE: 12/9/25. RECOMMENDATION: SAVE THE LINKS IN A FILE FOR EASY ACCESS.\n \nPLEASE NOTE SPECIAL MEAL REQUEST IS NOT AVAILABLE FOR THIS MEETING\n \n \n \nPAYMENT IS REQUIRED AT TIME OF REGISTRATION\n \n$37 - Member (meal and program)\n \n$50 - Guest (meal and program)\n \n$25 - Member (NO MEAL/program only)\n \nTO PAY VIA CREDIT CARD:  follow these instructions:\n \nScroll down to “Register Now”\n \nCLICK on “REGISTER NOW” \n \nComplete the contact information\n Payment Method: click “Credit Card or PayPal” REMEMBER TO FINALIZE PAYMENT THRU PAYPAL – YOU MUST COMPLETE THE STEPS BELOW FOR PAYMENT Click “Pay Now” “Pay with Debit or Credit Card” “PayPal Guest Checkout”  “Pay Now” PLEASE NOTE:  YOU WILL RECEIVE A RECEIPT IMMEDIATELY FOLLOWING THE TRANSACTION – PLEASE PRINT FOR YOUR RECORDS \nNOTE: If a work computer blocks the payment link, please try using a personal computer\n
SUMMARY:How to Establish Trust and Collaboration among Benefactors, Beneficiaries and Trustees - Estate Planning Council of North Texas 
PRIORITY:3
BEGIN:VALARM
TRIGGER:PT18H
ACTION:DISPLAY
DESCRIPTION:Reminder
END:VALARM
END:VEVENT
END:VCALENDAR