BEGIN:VCALENDAR
PRODID:-//hacksw/handcal//NONSGML v1.0//EN
VERSION:2.0
METHOD:PUBLISH
BEGIN:VEVENT
DTSTART:20260415T123000Z
DTEND:20260415T140000Z
LOCATION:Gleneagles Country Club
UID:2777020260415T123000ZHeirship Determination
DTSTAMP:20260423T180122Z
DESCRIPTION:\nESTATE PLANNING COUNCIL OF NORTH TEXAS\n \nBREAKFAST MEETING \n \nWEDNESDAY, APRIL 15\n \nBreakfast served 7:30-8:00 a.m.\n \nProgram 8:00-9:00 a.m.\n \nGLENEAGLES COUNTRY CLUB (5401 West Park Blvd., Plano)\n \nRegistration Deadline: APRIL 7 (5:00 p.m.)\n \nREGISTRATION WILL NOT BE AVAILABLE AFTER THE REGISTRATION DEADLINE\n \nWALK-INS ARE NOT GUARANTEED A MEAL. CASH OR CHECK AT THE DOOR\n \nMember: $30\n \nGuest: $40\n \nHEIRSHIP DETERMINATION\n \nNATHAN GRIFFIN\n \n\n \nKELVIN MEYERS\n \n \n \nSponsored by Glast Phillips Murray Zopolsky and Regions Bank \n \n\n\n\n \n \nThis presentation deals with heirship proceedings in Texas. Various problems and solutions to problems that are often present when attempting to determine and locate potential heirs will be discussed.The objective of this presentation is to help attendees understand heirship issues that can arise when a person dies without a will. Attendees will be made aware of certain tools and methods available to them to aid in the process of determining a person’s heirs.\n \nFor over 40 years, Nathan Griffin specialized in estate planning and probate matters, with an emphasis on estate administration, guardianships, and probate litigation. He now serves as a mediator in estate administration, guardianships, probate, and trust litigation.\n \nA fifth generation Texan, born in west Texas and educated at Texas Tech, Kelvin Meyers has been a professional forensic genealogist since 1996. Kelvin works with attorneys, bank trust officers and mineral companies researching heirs throughout the US and the world to holdings in Texas.\n \nContinuing education credit for attorneys, accountants and financial planners is pending for this meeting. The handout will be available on the website under the document library a few days prior to the presentation.\n \nREGISTER WITH THE LINK BELOW\n \nWe would like to thank the following Sponsors for their support for 2025-2026: Argent Trust, Armanino, Communities Foundation of Texas, Frost Bank, Glast Phillips Murray Zopolsky, Lindquist Eisenberg LLP, North Dallas Bank & Trust, Regions Bank, Texas Bank & Trust, The Catholic Foundation, Value, Inc, American National Bank & Trust, Texas Health Resources Foundation, Prosperity Bank, Heritage Auctions, Saville CPAs & Advisors, Wealth Advisors Trust Company, Weeks Law Firm, Happy Trust and Farmers National Company.\n \nIMPORTANT: Sign in Sheets will not be available at the meeting. The continuing ed links are provided with receipt - save the links for the day of the meeting \n \nPAYMENT IS REQUIRED AT TIME OF REGISTRATION\n \n$30 - Member \n \n$40 - Guest \n \nTO PAY VIA CREDIT CARD:  follow these instructions:\n \nScroll down to “Register Now”\n \nCLICK on “REGISTER NOW” \n \nComplete the contact information\n Payment Method: click “Credit Card or PayPal” REMEMBER TO FINALIZE PAYMENT THRU PAYPAL – YOU MUST COMPLETE THE STEPS BELOW FOR PAYMENT Click “Pay Now” “Pay with Debit or Credit Card” “PayPal Guest Checkout”  “Pay Now” PLEASE NOTE:  YOU WILL RECEIVE A RECEIPT IMMEDIATELY FOLLOWING THE TRANSACTION – PLEASE PRINT FOR YOUR RECORDS \nNOTE: If a work computer blocks the payment link, please try using a personal computer\n
SUMMARY:Heirship Determination - Estate Planning Council of North Texas 
PRIORITY:3
BEGIN:VALARM
TRIGGER:PT18H
ACTION:DISPLAY
DESCRIPTION:Reminder
END:VALARM
END:VEVENT
END:VCALENDAR