BEGIN:VCALENDAR
PRODID:-//hacksw/handcal//NONSGML v1.0//EN
VERSION:2.0
METHOD:PUBLISH
BEGIN:VEVENT
DTSTART:19700101T000000Z
LOCATION:
UID:331119700101T000000ZFIDUCIARY DUTIES
DTSTAMP:20260423T180849Z
DESCRIPTION:\nBREAKFAST MEETING WEDNESDAY, JANUARY 21, 2008 (Breakfast served 7:30-8:00 a.m., Program 8:00-9:00) SOUTHFORK HOTEL (East side of US 75 just north of 15th Street) RESERVATION DEADLINE: THURSDAY, JANUARY 15 TERRY ABEL FIDUCIARY DUTIES The presentation is intended to provide an awareness of the key fiduciary duties owed by a trustee to current and remainder interest beneficiaries, with concrete examples of difficulties faced in administering trusts, as well as claims and court resolutions of fiduciary conflicts. The presentation will also provide an overview of issues to consider in choosing an individual or corporate fiduciary for a client\n
SUMMARY:FIDUCIARY DUTIES - Estate Planning Council of North Texas 
PRIORITY:3
BEGIN:VALARM
TRIGGER:PT18H
ACTION:DISPLAY
DESCRIPTION:Reminder
END:VALARM
END:VEVENT
END:VCALENDAR