BEGIN:VCALENDAR
PRODID:-//hacksw/handcal//NONSGML v1.0//EN
VERSION:2.0
METHOD:PUBLISH
BEGIN:VEVENT
DTSTART:19700101T000000Z
LOCATION:
UID:331319700101T000000ZIRS UPDATE
DTSTAMP:20260423T180257Z
DESCRIPTION:\nRegistration information available two weeks prior to the meeting. \n
SUMMARY:IRS UPDATE - Estate Planning Council of North Texas 
PRIORITY:3
BEGIN:VALARM
TRIGGER:PT18H
ACTION:DISPLAY
DESCRIPTION:Reminder
END:VALARM
END:VEVENT
END:VCALENDAR