BEGIN:VCALENDAR
PRODID:-//hacksw/handcal//NONSGML v1.0//EN
VERSION:2.0
METHOD:PUBLISH
BEGIN:VEVENT
DTSTART:19700101T000000Z
LOCATION:
UID:331419700101T000000ZELDER LAW ISSUES RELATING TO NON-ELDER PROFESSIONALS
DTSTAMP:20260423T180843Z
DESCRIPTION:\nBREAKFAST MEETING WEDNESDAY, APRIL 22, 2009 (Breakfast served 7:30-8:00 a.m., Program 8:00-9:00) SOUTHFORK HOTEL (East side of US 75 just north of 15th Street) RESERVATION DEADLINE: THURSDAY, APRIL 16 (PAYMENT MUST BE IN COUNCIL\n
SUMMARY:ELDER LAW ISSUES RELATING TO NON-ELDER PROFESSIONALS - Estate Planning Council of North Texas 
PRIORITY:3
BEGIN:VALARM
TRIGGER:PT18H
ACTION:DISPLAY
DESCRIPTION:Reminder
END:VALARM
END:VEVENT
END:VCALENDAR