BEGIN:VCALENDAR
PRODID:-//hacksw/handcal//NONSGML v1.0//EN
VERSION:2.0
METHOD:PUBLISH
BEGIN:VEVENT
DTSTART:19700101T000000Z
LOCATION:
UID:331519700101T000000ZTAX PLANNING FOR IRAS IN THE NEW MILLENNIUM
DTSTAMP:20260423T180624Z
DESCRIPTION:\nBREAKFAST MEETING WEDNESDAY, MAY 20, 2009 (Breakfast served 7:30-8:00 a.m., Program 8:00-9:00) SOUTHFORK HOTEL (East side of US 75 just north of 15th Street) RESERVATION DEADLINE: THURSDAY, MAY 14 (PAYMENT MUST BE IN COUNCIL\n
SUMMARY:TAX PLANNING FOR IRAS IN THE NEW MILLENNIUM - Estate Planning Council of North Texas 
PRIORITY:3
BEGIN:VALARM
TRIGGER:PT18H
ACTION:DISPLAY
DESCRIPTION:Reminder
END:VALARM
END:VEVENT
END:VCALENDAR