BEGIN:VCALENDAR
PRODID:-//hacksw/handcal//NONSGML v1.0//EN
VERSION:2.0
METHOD:PUBLISH
BEGIN:VEVENT
DTSTART:20090916T123000Z
DTEND:20090916T140000Z
LOCATION:Southfork Hotel, Plano
UID:396220090916T123000ZBehavioral Finance During the Great Recession
DTSTAMP:20260423T180128Z
DESCRIPTION:\nBREAKFAST MEETING WEDNESDAY, SEPTEMBER 16, 2009 (Breakfast served 7:30-8:00 a.m., Program 8:00-9:00) SOUTHFORK HOTEL (East side of US 75 just north of 15th Street) RESERVATION DEADLINE: THURSDAY, SEPTEMBER 10 (PAYMENT MUST BE IN COUNCIL\n
SUMMARY:Behavioral Finance During the Great Recession - Estate Planning Council of North Texas 
PRIORITY:3
BEGIN:VALARM
TRIGGER:PT18H
ACTION:DISPLAY
DESCRIPTION:Reminder
END:VALARM
END:VEVENT
END:VCALENDAR