BEGIN:VCALENDAR
PRODID:-//hacksw/handcal//NONSGML v1.0//EN
VERSION:2.0
METHOD:PUBLISH
BEGIN:VEVENT
DTSTART:20091021T123000Z
LOCATION:
UID:396320091021T123000ZEstate Planning for the Non-Citizen Spouse
DTSTAMP:20260423T175206Z
DESCRIPTION:\nMore info to follow. \n
SUMMARY:Estate Planning for the Non-Citizen Spouse - Estate Planning Council of North Texas 
PRIORITY:3
BEGIN:VALARM
TRIGGER:PT18H
ACTION:DISPLAY
DESCRIPTION:Reminder
END:VALARM
END:VEVENT
END:VCALENDAR