BEGIN:VCALENDAR
PRODID:-//hacksw/handcal//NONSGML v1.0//EN
VERSION:2.0
METHOD:PUBLISH
BEGIN:VEVENT
DTSTART:20091118T133000Z
DTEND:20091118T150000Z
LOCATION:Southfork Hotel, Plano
UID:396420091118T133000ZAlternate Valuation Dates/Issues
DTSTAMP:20260423T175451Z
DESCRIPTION:\nEstate Planning Council of North Texas P. O. Box 38553, Dallas, Texas 75238-8553 Tel: 214-340-8020 Fax: 214-340-8021 E-mail: northtexasepc@yahoo.com Website: www.epcnt.org BREAKFAST MEETING WEDNESDAY, NOVEMBER 18, 2009 (Breakfast served 7:30-8:00 a.m., Program 8:00-9:00) SOUTHFORK HOTEL (East side of US 75 just north of 15th Street) RESERVATION DEADLINE: THURSDAY, NOVEMBER 12 (PAYMENT MUST BE IN COUNCIL\n
SUMMARY:Alternate Valuation Dates/Issues - Estate Planning Council of North Texas 
PRIORITY:3
BEGIN:VALARM
TRIGGER:PT18H
ACTION:DISPLAY
DESCRIPTION:Reminder
END:VALARM
END:VEVENT
END:VCALENDAR