BEGIN:VCALENDAR
PRODID:-//hacksw/handcal//NONSGML v1.0//EN
VERSION:2.0
METHOD:PUBLISH
BEGIN:VEVENT
DTSTART:20091216T133000Z
DTEND:20091216T150000Z
LOCATION:Southfork Hotel, Plano
UID:396520091216T133000ZEstate & Gift Tax Updates
DTSTAMP:20260423T175451Z
DESCRIPTION:\nEstate Planning Council of North Texas P. O. Box 38553, Dallas, Texas 75238-8553 Tel: 214-340-8020 E-mail: northtexasepc@yahoo.com Website: www.epcnt.org BREAKFAST MEETING WEDNESDAY, DECEMBER 16, 2009 (Breakfast served 7:30-8:00 a.m., Program 8:00-9:00) SOUTHFORK HOTEL (East side of US 75 just north of 15th Street) RESERVATION DEADLINE: THURSDAY, DECEMBER 10 (PAYMENT MUST BE IN COUNCIL\n
SUMMARY:Estate & Gift Tax Updates - Estate Planning Council of North Texas 
PRIORITY:3
BEGIN:VALARM
TRIGGER:PT18H
ACTION:DISPLAY
DESCRIPTION:Reminder
END:VALARM
END:VEVENT
END:VCALENDAR