BEGIN:VCALENDAR
PRODID:-//hacksw/handcal//NONSGML v1.0//EN
VERSION:2.0
METHOD:PUBLISH
BEGIN:VEVENT
DTSTART:20100217T133000Z
DTEND:20100217T150000Z
LOCATION:Southfork Hotel, Plano
UID:396720100217T133000ZEstate Planning with Mineral Interests
DTSTAMP:20260423T175006Z
DESCRIPTION:\nBREAKFAST MEETING WEDNESDAY, FEBRUARY 17, 2010 (Breakfast served 7:30-8:00 a.m., Program 8:00-9:00) SOUTHFORK HOTEL (East side of US 75 just north of 15th Street) RESERVATION DEADLINE: THURSDAY, FEBRUARY 11 (PAYMENT MUST BE IN COUNCIL\n
SUMMARY:Estate Planning with Mineral Interests - Estate Planning Council of North Texas 
PRIORITY:3
BEGIN:VALARM
TRIGGER:PT18H
ACTION:DISPLAY
DESCRIPTION:Reminder
END:VALARM
END:VEVENT
END:VCALENDAR