BEGIN:VCALENDAR
PRODID:-//hacksw/handcal//NONSGML v1.0//EN
VERSION:2.0
METHOD:PUBLISH
BEGIN:VEVENT
DTSTART:20100324T123000Z
DTEND:20100324T140000Z
LOCATION:Southfork Hotel, Plano
UID:396820100324T123000ZReal Estate Issues in Estate Planning
DTSTAMP:20260423T174949Z
DESCRIPTION:\nBREAKFAST MEETING WEDNESDAY, MARCH 24, 2010 (Breakfast served 7:30-8:00 a.m., Program 8:00-9:00) SOUTHFORK HOTEL (East side of US 75 just north of 15th Street) RESERVATION DEADLINE: THURSDAY, MARCH 18 (PAYMENT MUST BE IN COUNCIL\n
SUMMARY:Real Estate Issues in Estate Planning - Estate Planning Council of North Texas 
PRIORITY:3
BEGIN:VALARM
TRIGGER:PT18H
ACTION:DISPLAY
DESCRIPTION:Reminder
END:VALARM
END:VEVENT
END:VCALENDAR