BEGIN:VCALENDAR
PRODID:-//hacksw/handcal//NONSGML v1.0//EN
VERSION:2.0
METHOD:PUBLISH
BEGIN:VEVENT
DTSTART:20110518T123000Z
DTEND:20110518T140000Z
LOCATION:Southfork Hotel, Plano
UID:475220110518T123000ZDomino Effects of Estate Planning (CPA)
DTSTAMP:20260423T175826Z
DESCRIPTION:\n  \nBREAKFAST MEETING \nWEDNESDAY, MAY 18, 2011  \n(Breakfast served 7:30-8:00 a.m., Program 8:00-9:00) \nSOUTHFORK HOTEL \n(East side of US 75 just north of 15th Street) \nRESERVATION DEADLINE: THURSDAY, MAY 12 \n(PAYMENT MUST BE IN COUNCIL’S OFFICE BY THURSDAY, MAY 12) \n  \nDOMINO DYNAMICS/ EFFECTS OF ESTATE PLANNING \nCAROLYN SMITH \n  \nThis presentation will discuss how to apply the domino dynamics of estate and succession planning services to expand your services to clients. The discussion will include what the history of estate and gift taxes tell us, benefits of an 'above and below the line' process, how to make collaboration as part of the process, why ongoing management is critical to long-term success and case studies. Carolyn J. Smith, CPA, HealyPartners - Carolyn has over twenty five years of experience specializing in wealth management services, estate planning, and succession planning for high-wealth individuals and business owners and has received the Accredited Estate Planner designation. PROFESSIONAL EXPERIENCE:   Estate and succession planning, succession planning for closely-held businesses, individual income tax returns and planning, estate administration and reporting, insurance review and analysis, income tracing under community property laws, IRS representation. PROFESSIONAL AFFILIATIONS Accredited Estate Planner Legacy Wealth Coach Stephen Minister American Institute of Certified Public Accountants (AICPA)Texas Society of Certified Public Accountants (TSCPA)National Association of Estate Planners and Councils San Antonio Chapter of TSCPA San Antonio Estate Planners Council Individual Insurance Licenses (general lines-life, accident, and health)NASD Series 7 and 66 Securities Licenses. \nContinuing education credit pending for 1.0 Hour. \n  \nMembership dues do not include meals. Credit Cards are not accepted. Please complete this form, enclose a check (payable to Estate Planning Council of North Texas) and mail to: Estate Planning Council of North Texas, P. O. Box 38553, Dallas, TX 75238-8553. THERE WLL BE 5 MEALS AVAILABLE FOR WALK-INS ON DAY OF MEETING (FIRST COME, FIRST SERVE). ALL OTHER WALK-INS WILL BE “PROGRAM ONLY”. Members who have already paid in advance for all meetings for the year MUST register (you can send an e-mail to northtexasepc@yahoo.com) so we will have a count for the number of meals to prepare and number of outlines to print. \n  \nMember: $25 (includes meal); Guest: $30 (includes meal); Program Only (no meal): $15 \n  \nName: ________________________________________  \n      ____$25 ___$30 ____$15 \nE-Mail: ______________________________________ \nPhone Number: _________________________________ \n  \nName: ________________________________________  \n      ____$25 ___$30   ____$15 \nE-Mail: ______________________________________ \nPhone Number: _________________________________ \n  \nName: ________________________________________  \n      ____$25 ___$30   ____$15 \nE-Mail: ______________________________________ \nPhone Number: _________________________________ \n  \nNOTE: WALK-IN PRICES ON DATE OF MEETING: Member: $30 (includes meal); Guest: $35 (includes meal); Program Only (no meal): $20 \n  \nPATRON: We would like to thank the following patron for their support:  The Catholic Foundation \nIs your organization interested in sponsoring a meeting? Contact Teresa (214-340-8020) for more information. \n 
SUMMARY:Domino Effects of Estate Planning (CPA) - Estate Planning Council of North Texas 
PRIORITY:3
BEGIN:VALARM
TRIGGER:PT18H
ACTION:DISPLAY
DESCRIPTION:Reminder
END:VALARM
END:VEVENT
END:VCALENDAR