BEGIN:VCALENDAR
PRODID:-//hacksw/handcal//NONSGML v1.0//EN
VERSION:2.0
METHOD:PUBLISH
BEGIN:VEVENT
DTSTART:20111116T133000Z
DTEND:20111116T150000Z
LOCATION:Southfork Hotel, Plano
UID:550620111116T133000ZTrends in the Economy and How It Affects You
DTSTAMP:20260423T181105Z
DESCRIPTION:\n  \nBREAKFAST MEETING \nWEDNESDAY, NOVEMBER 16, 2011  \n(Breakfast served 7:30-8:00 a.m., Program 8:00-9:00) \nSOUTHFORK HOTEL \n(East side of US 75 just north of 15th Street) \nRESERVATION DEADLINE: THURSDAY, NOVEMBER 10 \n(PAYMENT MUST BE IN COUNCIL’S OFFICE BY THURSDAY, NOVEMBER 10) \n  \nTRENDS IN THE ECONOMY AND HOW IT AFFECTS YOU \nBOB BRIDGES \n  \nHouseholds and portfolios are operating in an economy that is difficult for many to understand. A basic understanding can be critical in wealth and estate strategy. Bob Bridges will present current trends in the economy and how we got to this point. He will introduce an understanding of some basic economic statistics as a measuring stick. These statistics will unfold what is really happening in the economy, whether we are heading for recovery or a double-dip recession, and how that will affect you. Bob Bridges is a Principal at VALUE Incorporated, a premier firm specializing in the valuation of businesses, partnerships, and intellectual property. He provides valuation opinions and economic analyses for businesses ranging in size from sole proprietorships to Fortune 500 companies. The scope of Mr. Bridges work includes valuation opinions for GAAP financial reporting, litigation and estate and gift tax purposes. Mr. Bridges holds a bachelor’s degree in Economics from University of Texas at Arlington and a master’s degree in Applied Economics from Southern Methodist University. Mr. Bridges is also a CFA charter holder, as designated by the CFA Institute. Mr. Bridges has acted as a finance and economic consultant to businesses, brokers and fund analysts for over fifteen years. \n  \nContinuing education credit pending for 1.0 Hour. \n  \nMembership dues do not include meals. Credit Cards are not accepted. Please complete this form, enclose a check (payable to Estate Planning Council of North Texas) and mail to: Estate Planning Council of North Texas, P. O. Box 38553, Dallas, TX 75238-8553. THERE WLL BE 5 MEALS AVAILABLE FOR WALK-INS ON DAY OF MEETING (FIRST COME, FIRST SERVE). ALL OTHER WALK-INS WILL BE “PROGRAM ONLY”. Members who have already paid in advance for all meetings for the year MUST register (you can send an e-mail to northtexasepc@yahoo.com) so we will have a count for the number of meals to prepare and number of outlines to print. \n  \nMember: $25 (includes meal); Guest: $30 (includes meal); Program Only (no meal): $15 \n  \nName: ________________________________________ \n     ____$25    ___$30 ____$15 \nE-Mail: ______________________________________ \nPhone Number: _________________________________ \n  \nName: ________________________________________  \n    ____$25     ___$30 ____$15 \nE-Mail: ______________________________________ \nPhone Number: _________________________________ \n  \nName: ________________________________________ \n     ____$25    ___$30 ____$15 \nE-Mail: ______________________________________ \nPhone Number: _________________________________ \n  \nNOTE: WALK-IN PRICES ON DATE OF MEETING: Member: $30 (includes meal); Guest: $35 (includes meal); Program Only (no meal): $20 \n  \nPATRON: We would like to thank the following patron for their support:  The Catholic Foundation \nIs your organization interested in sponsoring a meeting? Contact Teresa (214-340-8020) for more information.\n \n\n\n
SUMMARY:Trends in the Economy and How It Affects You - Estate Planning Council of North Texas 
PRIORITY:3
BEGIN:VALARM
TRIGGER:PT18H
ACTION:DISPLAY
DESCRIPTION:Reminder
END:VALARM
END:VEVENT
END:VCALENDAR