BEGIN:VCALENDAR
PRODID:-//hacksw/handcal//NONSGML v1.0//EN
VERSION:2.0
METHOD:PUBLISH
BEGIN:VEVENT
DTSTART:20111221T133000Z
DTEND:20111221T150000Z
LOCATION:Southfork Hotel, Plano
UID:550720111221T133000ZPassing on Philanthropic Values
DTSTAMP:20260423T180430Z
DESCRIPTION:\n  \nBREAKFAST MEETING \nWEDNESDAY, DECEMBER 21, 2011  \n(Breakfast served 7:30-8:00 a.m., Program 8:00-9:00) \nSOUTHFORK HOTEL(East side of US 75 just north of 15th Street) \n  \nRESERVATION DEADLINE: THURSDAY, DECEMBER 15 \n(PAYMENT MUST BE IN COUNCIL’S OFFICE BY THURSDAY, DECEMBER 15) \n  \nPASSING ON PHILANTHROPIC VALUES/ \nSUCCESSION PLANNING FOR PHILANTHROPY \nRAMSAY SLUGG \n  \nParents are often concerned that their philanthropic values will not be passed down to the next generation.  However, by understanding what is important to the next generation, and using techniques designed to instill philanthropic values and behaviors, parents may perpetuate philanthropy in the family for generations to come.  For families with private foundations, and even donor advised funds, governance can assist in that process and the latest governance techniques will be discussed in due course. Attendees will gain understanding of how different experiences among generations lead to different learning styles and value structures.  Helping families to understand that, rather than being frustrated by trying to impose their own experiences on the next generation, will help families to instill and carry on family traditions and philanthropic values. Ramsay H. Slugg is a senior vice-president and wealth strategist with the National Wealth Strategies Group at U.S. Trust, Bank of America Private Wealth Management. In this role, Ramsay assists in the analysis of tax and estate planning matters that may affect U.S. Trust clients, and the preparation of thought leadership materials on various estate and tax planning ideas that are used by U.S. Trust associates, clients and prospective clients. Ramsay also focuses on financial, tax and estate planning for ultra high net worth individuals and families.  \n  \nContinuing education credit pending for 1.0 Hour. \n  \nMembership dues do not include meals. Credit Cards are not accepted. Please complete this form, enclose a check (payable to Estate Planning Council of North Texas) and mail to: Estate Planning Council of North Texas, P. O. Box 38553, Dallas, TX 75238-8553. THERE WLL BE 5 MEALS AVAILABLE FOR WALK-INS ON DAY OF MEETING (FIRST COME, FIRST SERVE). ALL OTHER WALK-INS WILL BE “PROGRAM ONLY”. Members who have already paid in advance for all meetings for the year MUST register (you can send an e-mail to northtexasepc@yahoo.com) so we will have a count for the number of meals to prepare and number of outlines to print. \n  \nMember: $25 (includes meal); Guest: $30 (includes meal); Program Only (no meal): $15 \n  \nName: ________________________________________ \n     ____$25                ___$30 ____$15 \nE-Mail: ______________________________________ \nPhone Number: _________________________________ \n  \nName: ________________________________________ \n     ____$25                ___$30 ____$15 \nE-Mail: ______________________________________ \nPhone Number: _________________________________ \n  \nName: ________________________________________ \n     ____$25                ___$30 ____$15 \nE-Mail: ______________________________________ \nPhone Number: _________________________________ \n  \nNOTE: WALK-IN PRICES ON DATE OF MEETING: Member: $30 (includes meal); Guest: $35 (includes meal); Program Only (no meal): $20 \n  \nPATRON: We would like to thank the following patron for their support:  The Catholic Foundation \nIs your organization interested in sponsoring a meeting? Contact Teresa (214-340-8020) for more information.\n \n\n \n 
SUMMARY:Passing on Philanthropic Values - Estate Planning Council of North Texas 
PRIORITY:3
BEGIN:VALARM
TRIGGER:PT18H
ACTION:DISPLAY
DESCRIPTION:Reminder
END:VALARM
END:VEVENT
END:VCALENDAR