BEGIN:VCALENDAR
PRODID:-//hacksw/handcal//NONSGML v1.0//EN
VERSION:2.0
METHOD:PUBLISH
BEGIN:VEVENT
DTSTART:20120516T123000Z
DTEND:20120516T140000Z
LOCATION:Southfork Hotel, Plano
UID:551220120516T123000ZBusiness Valuations and M&A Market
DTSTAMP:20260423T181315Z
DESCRIPTION:\nBREAKFAST MEETING\n\n\n \nWEDNESDAY, MAY 16, 2012 \n\n\n \n(Breakfast served 7:30-8:00 a.m., Program 8:00-9:00)\n\n\n \nSOUTHFORK HOTEL\n \n(East side of US 75 just north of 15th Street)\n \n\n\n\n \n \n \nRESERVATION DEADLINE:  THURSDAY, MAY 10\n\n\n \n(PAYMENT MUST BE IN COUNCIL’S OFFICE BY THURSDAY, MAY 10)\n\n\n \nBUSINESS VALUATION AND M&A MARKET\n\n\n \nPETER PHALON\n\n\n \nThe presentation will look at the M&A market that currently exists and changes to the market in recent years including transaction volume and pricing.  The presentation will address the inefficiencies in the market and how to best capitalize on those inefficiencies. The presentation will also include transfer strategies and planning. The attendee will obtain insight into the transaction market and some skills regarding how to capitalize on transaction opportunities.  The attendee will be in a better position to discuss the transaction process with their clients and introduce estate planning ideas that may be implemented in conjunction with a transaction.  Peter Phalon is the Senior Managing Director of Waterview Advisors.  WA is a business valuation and middle market investment banking firm. During his 30 year career, Mr. Phalon has focused exclusively on the valuation of businesses, partnership interests, intangible assets, and other financial interests. His valuations have provided the basis for acquisitions and divestitures, gift and estate planning, business succession planning, goodwill impairment, fairness opinions, purchase price allocation, employee stock ownership plans, general corporate planning, and litigation support.  Mr. Phalon's experience has provided in-depth knowledge of a wide range of industries. Throughout his career, Mr. Phalon has demonstrated the ability to quickly and effectively evaluate complex issues, to focus discussions on key factors, and to communicate his analyses in a manner that often reduces confusion for clients and other professionals.  \n\n\n \n Continuing education credit pending for 1.0 Hour.\n\n\n \nMembership dues do not include meals.  Credit Cards are not accepted. Please complete this form, enclose a check (payable to Estate Planning Council of North Texas) and mail to:  Estate Planning Council of North Texas, P. O. Box 38553, Dallas, TX  75238-8553.  THERE WLL BE 5 MEALS AVAILABLE FOR WALK-INS ON DAY OF MEETING (FIRST COME, FIRST SERVE). ALL OTHER WALK-INS WILL BE “PROGRAM ONLY”.  Members who have already paid in advance for all meetings for the year MUST register (you can send an e-mail to northtexasepc@yahoo.com) so we will have a count for the number of meals to prepare and number of outlines to print.\n\n\n \n\n \n\n \nMember: $25 (includes meal); Guest: $30 (includes meal); Program Only (no meal): $15\n\n\n \n\n \n\n \nName: ________________________________________     \n \n____$25                ___$30 ____$15\n\n\n \nE-Mail: ______________________________________\n\n\n \nPhone Number: _________________________________\n\n\n \n\n \n\n \nName: ________________________________________   \n \n  ____$25                ___$30  ____$15\n\n\n \nE-Mail: ______________________________________\n\n\n \nPhone Number: _________________________________\n\n\n \n\n \n\n \nName: ________________________________________    \n \n____$25                ___$30  ____$15\n\n\n \nE-Mail: ______________________________________\n\n\n \nPhone Number: _________________________________\n\n\n \n\n \n\n \n \n
SUMMARY:Business Valuations and M&A Market - Estate Planning Council of North Texas 
PRIORITY:3
BEGIN:VALARM
TRIGGER:PT18H
ACTION:DISPLAY
DESCRIPTION:Reminder
END:VALARM
END:VEVENT
END:VCALENDAR