BEGIN:VCALENDAR
PRODID:-//hacksw/handcal//NONSGML v1.0//EN
VERSION:2.0
METHOD:PUBLISH
BEGIN:VEVENT
DTSTART:20130207T180000Z
DTEND:20130207T193000Z
LOCATION:Bent Tree Country Club
UID:726720130207T180000ZEstate Planning Current Developments
DTSTAMP:20260423T181352Z
DESCRIPTION:\nTHE REGISTRATION DEADLINE FOR THIS EVENT HAS PASSED.  WALK-INS ARE WELCOME BUT ARE NOT GUARANTEED A MEAL.\n \n \n \nNOON MEETING\n\n\n \nTHURSDAY, FEBRUARY 7, 2013\n \n(Lunch served noon-12:30 p.m.; Program 12:30-1:30 p.m.)\n\n\n \nBENT TREE COUNTRY CLUB\n \n5201 Westgrove Drive, Dallas, TX 75248 (972-931-7326)\n\n\n \nFOLLOW DIRECTIONS BELOW:\n\n\n \nTollway South: Exit Trinity Mills, Turn Left on Westgrove, Left on Club Hill Drive\n\n\n \nTollway North: Exit Keller Springs/Westgrove, Turn Right on Westgrove, Left on Club Hill Drive\n\n\n \n\n \n\n \nRESERVATION DEADLINE: FRIDAY, FEBRUARY 1 (IN COUNCIL’S OFFICE)\n\n\n \n\n \n\n \nESTATE PLANNING CURRENT DEVELOPMENTS AND HOT TOPICS\n\n\n \nSTEVE AKERS\n\n\n \nSPONSORED BY THE CATHOLIC FOUNDATION\n\n\n \n(JOINT MEETING WITH DALLAS ESTATE PLANNING COUNCIL)\n\n\n \n\n \n\n \nEstate planning in light of the uncertainty surrounding what will happen after 2012 is most difficult.  A variety of planning strategies in light of legislative and estate planning current developments are addressed (including ideas discussed at the 2013 Heckerling Institute on Estate Planning). Steve R. Akers, JD, is a Managing Director with Bessemer Trust Company, N.A., in Dallas, Texas, where he is Fiduciary Counsel for the Southwest Region and is in the Legacy Planning Department.  Mr. Akers is a member of the Advisory Committee to the University of Miami Philip E. Heckerling Institute on Estate Planning and is a frequent speaker at that Institute, as well as other estate planning seminars across the country. He is a past Chair of the American Bar Association’s Section of Real Property, Trust & Estate Law. He is a Fellow of the AmericanCollege of Trust and Estate Counsel, and currently serves a member of the Executive Committee, Regent, and Chair of the Business Planning Committee. He is a past editor of the ACTEC Law Journal. Mr. Akers is a past Chair of the State Bar of Texas Real Estate, Probate and Trust Law Section and of the Dallas Bar Probate, Trusts and Estates Section.  He is a co-author of A Planning Guide to Buy-Sell Agreements and Estate Planning After the Tax Relief and Job Creation Act of 2010.  Mr. Akers received his B.S. degree in Chemical Engineering from OklahomaStateUniversity and his J.D. degree from the University of Texas School of Law.\n\n\n \nContinuing education credit pending for 1.0 Hour.\n\n\n \nMembership dues do not include meals.  Credit Cards are not accepted. Please complete this form, enclose a check (payable to Estate Planning Council of North Texas) and mail to:  Estate Planning Council of North Texas, P. O. Box 38553, Dallas, TX  75238-8553.  THERE WLL BE 5 MEALS AVAILABLE FOR WALK-INS ON DAY OF MEETING (FIRST COME, FIRST SERVE). ALL OTHER WALK-INS WILL BE “PROGRAM ONLY”.  Members who have already paid in advance for all meetings for the year MUST register (you can send an e-mail to northtexasepc@yahoo.com) so we will have a count for the number of meals to prepare and number of outlines to print.\n\n\n \n\n \n\n \nMember: $37 (includes meal); Guest: $60 (includes meal); Program Only (no meal): $25\n\n\n \n\n \n\n \nName: ________________________________________     ____$37                ___$60 ____$25\n\n\n \nE-Mail: ______________________________________\n\n\n \nPhone Number: _________________________________\n\n\n \n\n \n\n \nName: ________________________________________     ____$37                ___$60  ____$25\n\n\n \nE-Mail: ______________________________________\n\n\n \nPhone Number: _________________________________\n\n\n \n\n \n\n \nName: ________________________________________     ____$37                ___$60  ____$25\n\n\n \nE-Mail: ______________________________________\n\n\n \nPhone Number: _________________________________\n\n\n \n\n \n\n \n\n \n\n \nPATRON:  We would like to thank the following patron for their support:  The Catholic Foundation\n\n\n \nWould your organization like to sponsor a meeting:  Sponsor for Meeting ($750 for 1 meeting):  Sponsorship for a meeting includes organization name on meeting notices, easel signage (sponsors provide signage) at the meeting, promotional brochures at meeting, a very brief (one minute) introduction to their organization at the beginning of the meeting and one complimentary breakfast at the meeting.  NOTE:  Each meeting can have more than one sponsor (conflicts will be eliminated by Council)\n\n\n \n\n \n\n \n \n
SUMMARY:Estate Planning Current Developments - Estate Planning Council of North Texas 
PRIORITY:3
BEGIN:VALARM
TRIGGER:PT18H
ACTION:DISPLAY
DESCRIPTION:Reminder
END:VALARM
END:VEVENT
END:VCALENDAR