BEGIN:VCALENDAR
PRODID:-//hacksw/handcal//NONSGML v1.0//EN
VERSION:2.0
METHOD:PUBLISH
BEGIN:VEVENT
DTSTART:20131218T133000Z
DTEND:20131218T150000Z
LOCATION:Gleneagles Country Club, Plano
UID:762120131218T133000ZProtecting Your and Your Client's Security
DTSTAMP:20260423T181947Z
DESCRIPTION:\nBREAKFAST MEETING\n \nWEDNESDAY, DECEMBER 18\n \n(Breakfast served 7:30-8:00 a.m., Program 8:00-9:00)\n \nNOTE:  MEETING LOCATION\n \nGLENEAGLES COUNTRY CLUB (5401 West Park Blvd., Plano)\n \nRESERVATION DEADLINE:  WEDNESDAY, DECEMBER 11\n \n(PAYMENT MUST BE IN COUNCIL’S OFFICE BY WEDNESDAY, DECEMBER 11)\n \n \n \nProtecting Your (and Your Client’s) Security: Physical, Brand and Reputation\n \nDee Elliott\n \n \n \nTrident Response Group is a risk management and threat solutions firm serving clients to be “ready” for the inevitable issues of life, as when the Black Swan shows up; when they are the “First Responder” to preserve property and critical information portfolios, brand, and reputation.  Trident’s READY4 program is structured to assure readiness based on more than a century of success in special operations, national intelligence, and law enforcement. READY4 applies to life—Instead of spending hundreds of hours thinking of the thousands of bad things that can happen to those we love and those for whom we are responsible, Trident asks the question: “What is your Ready?” This presentation will develop an awareness of and provide a process for determining the reality of risks in the life of a family or business with particular emphasis on duty of care.   It will provide a description of process for assessment and remediation of vulnerabilities based on lifestyle as it applies to people, property, environment and critical information.  Dee Elliott is a co-founder and principal of Trident Response Group, an elite risk management and threat solutions firm.  The Trident team serves families and business leaders as they work to change their world. A graduate of the U.S. Naval Academy, Dee has nearly 40 years of leadership experience in executive and consulting positions. \n \nThere will not be any continuing education credits for this program.\n \nMembership dues do not include meals.  Credit Cards are not accepted. Please complete this form, enclose a check (payable to Estate Planning Council of North Texas) and mail to:  Estate Planning Council of North Texas, P. O. Box 38553, Dallas, TX  75238-8553.  THERE WLL BE 5 MEALS AVAILABLE FOR WALK-INS ON DAY OF MEETING (FIRST COME, FIRST SERVE). ALL OTHER WALK-INS WILL BE “PROGRAM ONLY”.  Members who have already paid in advance for all meetings for the year MUST register (you can send an e-mail to northtexasepc@yahoo.com) so we will have a count for the number of meals to prepare and number of outlines to print.\n \n \n \nMember: $25 (includes meal); Guest: $30 (includes meal); Program Only (no meal): $15\n \n \n \nName: ________________________________________    \n \n____$25   ___$30 ____$15\n \nE-Mail: ______________________________________\n \nPhone Number: _________________________________\n \n \n \nName: ________________________________________    \n \n____$25   ___$30  ____$15\n \nE-Mail: ______________________________________\n \nPhone Number: _________________________________\n \n \n \nName: ________________________________________    \n \n____$25    ___$30  ____$15\n \nE-Mail: ______________________________________\n \nPhone Number: _________________________________\n \n \n \nNOTE:  WALK-IN PRICES ON DATE OF MEETING:  Member: $30 (includes meal); Guest: $35 (includes meal); Program Only (no meal): $20\n \n \n \nPATRON:  We would like to thank the following patron for their support:  The Catholic Foundation\n \nWould your organization like to sponsor a meeting:  Sponsor for Meeting ($500 for 1 meeting):  Sponsorship for a meeting includes organization name on meeting notices, easel signage (sponsors provide signage) at the meeting, promotional brochures at meeting, a very brief (one minute) introduction to their organization at the beginning of the meeting and one complimentary breakfast at the meeting.  NOTE:  Each meeting can have more than one sponsor (conflicts will be eliminated by Council)\n \n \n
SUMMARY:Protecting Your and Your Client's Security - Estate Planning Council of North Texas 
PRIORITY:3
BEGIN:VALARM
TRIGGER:PT18H
ACTION:DISPLAY
DESCRIPTION:Reminder
END:VALARM
END:VEVENT
END:VCALENDAR