BEGIN:VCALENDAR
PRODID:-//hacksw/handcal//NONSGML v1.0//EN
VERSION:2.0
METHOD:PUBLISH
BEGIN:VEVENT
DTSTART:20140319T123000Z
DTEND:20140319T140000Z
LOCATION:Gleneagles Country Club, Plano
UID:762420140319T123000ZEasing the Impact of Higher Income Taxes
DTSTAMP:20260423T180256Z
DESCRIPTION:\nBREAKFAST MEETING\n \nWEDNESDAY, MARCH 19, 2014\n \n(Breakfast served 7:30-8:00 a.m., Program 8:00-9:00)\n \nNOTE:  MEETING LOCATION\n \nGLENEAGLES COUNTRY CLUB (5401 West Park Blvd., Plano)\n \nRESERVATION DEADLINE:  WEDNESDAY, MARCH 12\n \n(PAYMENT MUST BE IN COUNCIL’S OFFICE BY WEDNESDAY, MARCH 12)\n \n \n \n"EASING THE IMPACT OF HIGHER INCOME TAXES"\n \nSPEAKER: KELLIE DIDIA\n \nAs of January 1, 2013, business owners and other wealthy taxpayers are now subject to myriad of higher income taxes.  The principal reasons for these higher income taxes are the changes enacted by: (a) the American Taxpayer Relief Act of 2012 (aka the “fiscal cliff” legislation), and (b) the Patient Protection and Affordable Care Act of 2010 (aka President Barrack Obama’s healthcare legislation).  Given their level of sophistication and needs, these clients may desire to explore ways in which they can “take a bite” out of the higher income taxes they currently face.  This presentation will focus on ways in which higher net worth client (such as business owners, highly compensated employees, and individual taxpayers) may reduce and defer taxable income (and, thus, income taxes).  Kellie DiDia is a senior analyst for Pacific Life’s Advanced Designs Unit, a highly recognized team of advanced market experts for the life insurance industry.  Kellie has a specialized focus on business planning, executive compensation, retirement planning and estate planning.  Kellie is an expert on planning related to Pacific Life’s long-term care product and chronic illness rider and is a frequent presenter to life insurance producers and professional advisors.  Before entering the life insurance industry, she earned her J.D. from Pepperdine University School of Law. \n \nContinuing education credits are pending for this program.\n \nMembership dues do not include meals.  Credit Cards are not accepted. Please complete this form, enclose a check (payable to Estate Planning Council of North Texas) and mail to:  Estate Planning Council of North Texas, P. O. Box 38553, Dallas, TX  75238-8553.  THERE WLL BE 5 MEALS AVAILABLE FOR WALK-INS ON DAY OF MEETING (FIRST COME, FIRST SERVE). ALL OTHER WALK-INS WILL BE “PROGRAM ONLY”.  Members who have already paid in advance for all meetings for the year MUST register (you can send an e-mail to northtexasepc@yahoo.com) so we will have a count for the number of meals to prepare and number of outlines to print.\n \n \n \nMember: $25 (includes meal); Guest: $30 (includes meal); Program Only (no meal): $15\n \n \n \nName: ________________________________________  \n \n ____$25    ___$30 ____$15\n \nE-Mail: ______________________________________\n \nPhone Number: _________________________________\n \n \n \nName: ________________________________________    \n \n____$25   ___$30  ____$15\n \nE-Mail: ______________________________________\n \nPhone Number: _________________________________\n \n \n \nName: ________________________________________ \n \n ____$25    _$30  ____$15\n \nE-Mail: ______________________________________\n \nPhone Number: _________________________________\n \n \n \nNOTE:  WALK-IN PRICES ON DATE OF MEETING:  Member: $30 (includes meal); Guest: $35 (includes meal); Program Only (no meal): $20\n \n \n \nPATRON:  We would like to thank the following patron for their support:  The Catholic Foundation\n \nWould your organization like to sponsor a meeting:  Sponsor for Meeting ($500 for 1 meeting):  Sponsorship for a meeting includes organization name on meeting notices, easel signage (sponsors provide signage) at the meeting, promotional brochures at meeting, a very brief (one minute) introduction to their organization at the beginning of the meeting and one complimentary breakfast at the meeting.  NOTE:  Each meeting can have more than one sponsor (conflicts will be eliminated by Council)\n \n \n
SUMMARY:Easing the Impact of Higher Income Taxes - Estate Planning Council of North Texas 
PRIORITY:3
BEGIN:VALARM
TRIGGER:PT18H
ACTION:DISPLAY
DESCRIPTION:Reminder
END:VALARM
END:VEVENT
END:VCALENDAR